BEGIN:VCALENDAR
VERSION:2.0
PRODID:-//ChamberMaster//Event Calendar 2.0//EN
METHOD:PUBLISH
X-PUBLISHED-TTL:P3D
REFRESH-INTERVAL:P3D
CALSCALE:GREGORIAN
BEGIN:VEVENT
DTSTART:20220714T130000Z
DTEND:20220714T190000Z
X-MICROSOFT-CDO-ALLDAYEVENT:FALSE
SUMMARY:School 2 Business Summit
DESCRIPTION:Last year's SCHOOL TO BUSINESS SUMMIT resulted in a redesigned Project Purpose\, a middle school career fair\, and 4 schools participating in Innovation Day. This year\, Merrill Wilcox of Georgia Partnership for Excellence in Education will engage audiences in an interactive presentation about the Workforce Plan\, a joint initiative of Imagine Thomasville and Thomasville Resource Center. In addition\, teachers and administrators will shape future workforce programs and get a behind-the-scenes tour of some of our most exciting new industries. \n\n\n\nREGISTER TODAY!
X-ALT-DESC;FMTTYPE=text/html:<span style="color: rgb(71\, 71\, 71)\; font-family: &quot\;Open Sans&quot\;\, sans-serif\; font-size: 15px\; text-align: justify\;">Last year&rsquo\;s SCHOOL TO BUSINESS SUMMIT resulted in a redesigned Project Purpose\, a middle school career fair\, and 4 schools participating in Innovation Day. This year\, Merrill Wilcox of Georgia Partnership for Excellence in Education will engage audiences in an interactive presentation about the Workforce Plan\, a joint initiative of Imagine Thomasville and Thomasville Resource Center. In addition\, teachers and administrators will shape future workforce programs and get a behind-the-scenes tour of some of our most exciting new industries.&nbsp\;<br />\n<br />\nREGISTER TODAY!</span>
LOCATION:401 S. Broad St. Thomasville\, GA 31792
UID:e.3211.1015
SEQUENCE:3
DTSTAMP:20260422T220824Z
URL:https://business.thomasvillechamber.com/events/details/school-2-business-summit-1015
END:VEVENT

END:VCALENDAR
