BEGIN:VCALENDAR
VERSION:2.0
PRODID:-//ChamberMaster//Event Calendar 2.0//EN
METHOD:PUBLISH
X-PUBLISHED-TTL:P3D
REFRESH-INTERVAL:P3D
CALSCALE:GREGORIAN
BEGIN:VEVENT
DTSTART:20230717T130000Z
DTEND:20230717T210000Z
X-MICROSOFT-CDO-ALLDAYEVENT:FALSE
SUMMARY:School 2 Business Summit
DESCRIPTION:A collaborative event where education and business align initiatives for preparing students K-12 for the workforce.
X-ALT-DESC;FMTTYPE=text/html:A collaborative event where education and business align initiatives for preparing students K-12 for the workforce.
LOCATION:Southern Regional Technical College Building D Room 106-107
UID:e.3211.1674
SEQUENCE:3
DTSTAMP:20260421T222647Z
URL:https://business.thomasvillechamber.com/events/details/school-2-business-summit-1674
END:VEVENT

END:VCALENDAR
