BEGIN:VCALENDAR
VERSION:2.0
PRODID:-//ChamberMaster//Event Calendar 2.0//EN
METHOD:PUBLISH
X-PUBLISHED-TTL:P3D
REFRESH-INTERVAL:P3D
CALSCALE:GREGORIAN
BEGIN:VEVENT
DTSTART:20220719T160000Z
DTEND:20220719T200000Z
X-MICROSOFT-CDO-ALLDAYEVENT:FALSE
SUMMARY:Senior Life Insurance Company Hiring Event
DESCRIPTION:Senior Life will be holding a hiring event on Tuesday\, July 19th\, from 12:00 PM - 4:00 PM. Random drawings for cash & prizes!\n\n\n\nPositions hiring for on the spot:\n\n- HR Director\n\n- Assistant Director of HR\n\n- Marketing Director\n\n- Videographer\n\n- Claims Analyst\n\n- Leads\n\n- Marketing Compliance\n\n- Benefits Coordinator\n\n- Legacy Assurance\n\n- Recruiting\n\n- Direct Sales\n\n\n\nCall or text 850-513-3000 to reserve your spot and start your career today!
X-ALT-DESC;FMTTYPE=text/html:<strong>Senior Life will be holding a hiring event on Tuesday\, July 19th\, from 12:00 PM - 4:00 PM. Random drawings for cash &amp\; prizes!</strong><br />\n<br />\nPositions hiring for on the spot:<br />\n- HR Director<br />\n- Assistant Director of HR<br />\n- Marketing Director<br />\n- Videographer<br />\n- Claims Analyst<br />\n- Leads<br />\n- Marketing Compliance<br />\n- Benefits Coordinator<br />\n- Legacy Assurance<br />\n- Recruiting<br />\n- Direct Sales<br />\n<br />\nCall or text 850-513-3000 to reserve your spot and start your career today!
LOCATION:1 Senior Life Lane\, Thomasville\, GA 31792
UID:e.3211.1021
SEQUENCE:3
DTSTAMP:20260422T202128Z
URL:https://business.thomasvillechamber.com/events/details/senior-life-insurance-company-hiring-event-1021
END:VEVENT

END:VCALENDAR
