BEGIN:VCALENDAR
VERSION:2.0
PRODID:-//ChamberMaster//Event Calendar 2.0//EN
METHOD:PUBLISH
X-PUBLISHED-TTL:P3D
REFRESH-INTERVAL:P3D
CALSCALE:GREGORIAN
BEGIN:VEVENT
DTSTART:20220226T150000Z
DTEND:20220226T190000Z
X-MICROSOFT-CDO-ALLDAYEVENT:FALSE
SUMMARY:Shots of Love - Thomasville Humane Society
DESCRIPTION:Thomasville Humane Society and Andy Blanton State Farm comes together for Shots of Love! Join us for a low-cost wellness clinic where all friendly pets are welcome!\n\n\n\nThere will be food\, fun activites\, giveaways\, and even $5 flea/tick preventative!\n\n\n\n*All dogs must be leashed. All cats must be in a carrier. Limited supplies for event.
X-ALT-DESC;FMTTYPE=text/html:Thomasville Humane Society and Andy Blanton State Farm comes together for Shots of Love! Join us for a low-cost wellness clinic where all friendly pets are welcome!<br />\n<br />\nThere will be food\, fun activites\, giveaways\, and even $5 flea/tick preventative!<br />\n<br />\n*All dogs must be leashed. All cats must be in a carrier. Limited supplies for event.
LOCATION:14004 US-19 #103\, Thomasville\, GA 31757
UID:e.3211.985
SEQUENCE:3
DTSTAMP:20260423T053004Z
URL:https://business.thomasvillechamber.com/events/details/shots-of-love-thomasville-humane-society-985
END:VEVENT

END:VCALENDAR
