BEGIN:VCALENDAR
VERSION:2.0
PRODID:-//ChamberMaster//Event Calendar 2.0//EN
METHOD:PUBLISH
X-PUBLISHED-TTL:P3D
REFRESH-INTERVAL:P3D
CALSCALE:GREGORIAN
BEGIN:VEVENT
DTSTART:20221014T160000Z
DTEND:20221014T163000Z
X-MICROSOFT-CDO-ALLDAYEVENT:FALSE
SUMMARY:Smart Spot Learning & Play Center Grand Opening
DESCRIPTION:Join us as we celebrate the grand opening of Smart Spot Learning and Play Center with a special ribbon cutting ceremony on Friday\, October 14th @ 12:00 PM. Smart Spot is located next to Ollies at 2585 East Pinetree Blvd. Thomasville\, GA 31792.\n\n\n\nSmart Spot Learning and Play Center is an after-school program designed to help bridge the gap for kids in K-12 Education. The center provides after-school pick up\, homework assistance and tutoring! For more information\, contact Latoya Crawford at 850-782-1090.
X-ALT-DESC;FMTTYPE=text/html:Join us as&nbsp\;we celebrate the grand opening of Smart Spot Learning and Play Center with a special ribbon cutting ceremony on Friday\, October 14th @ 12:00 PM. Smart Spot is located next to Ollies at 2585 East Pinetree Blvd. Thomasville\, GA 31792.<br />\n<br />\nSmart Spot Learning and Play Center is an after-school program designed to help bridge the gap for kids in K-12 Education. The center provides after-school pick up\, homework assistance and tutoring! For more information\, contact Latoya Crawford at 850-782-1090.
LOCATION:
UID:e.3211.1638
SEQUENCE:3
DTSTAMP:20260422T135015Z
URL:https://business.thomasvillechamber.com/events/details/smart-spot-learning-play-center-grand-opening-1638
END:VEVENT

END:VCALENDAR
