BEGIN:VCALENDAR
VERSION:2.0
PRODID:-//ChamberMaster//Event Calendar 2.0//EN
METHOD:PUBLISH
X-PUBLISHED-TTL:P3D
REFRESH-INTERVAL:P3D
CALSCALE:GREGORIAN
BEGIN:VEVENT
DTSTART:20220323T140000Z
DTEND:20220323T180000Z
X-MICROSOFT-CDO-ALLDAYEVENT:FALSE
SUMMARY:South Georgia Healthcare Summit
DESCRIPTION:Come together with your education peers across 35 counties to understand the needs of healthcare employers in South Georgia.\n\n\n\n\n\n\nAbout this event\n\n\n\nThis is a healthcare partnership with the 35 counties in South Georgia to connect employers\, educators\, and community partners. The goal of this summit is partnership development\, worksite engagement\, building a strong pathway into healthcare\, sharing resources\, and increasing communication.\n\n*Mask will be required and provided.\n\n*Sanitatizer will also be provided.\n\n\n\n\n\n \n\n\n\nDate and time\n\n\nWed\, February 23\, 2022\n\n10:00 AM   2:00 PM EST\n\n\nLocation\n\n\nUniversity of Georgia Tifton Campus Conference Center\n\n15 R D C Road\n\nTifton\, GA 31794
X-ALT-DESC;FMTTYPE=text/html:<div class="g-cell g-cell-1-1 g-cell-md-7-12 g-cell--no-gutters l-lg-pad-right-6" style="margin: 0px\; padding: 0px\; width: 560px\; box-sizing: border-box\; display: inline-block\; overflow: hidden\; vertical-align: top\; letter-spacing: 0.5px\; font-size: 0.933333rem\; line-height: 1.25rem\; color: rgb(57\, 54\, 79)\; font-family: &quot\;Neue Plak&quot\;\, -apple-system\, BlinkMacSystemFont\, Roboto\, &quot\;Helvetica Neue&quot\;\, Helvetica\, Tahoma\, Arial\, sans-serif\;">\n<div class="g-group l-lg-mar-bot-6 l-md-mar-bot-4  " style="margin: 0px 0px 30px\; padding: 0px\; font-size: 0px\; letter-spacing: 0px\;">\n<div class="g-cell g-cell-10-12 g-cell-md-1-1" style="margin: 0px\; padding: 0px 15px\; width: 560px\; box-sizing: border-box\; display: inline-block\; overflow: hidden\; vertical-align: top\; letter-spacing: 0.5px\; font-size: 0.933333rem\; line-height: 1.25rem\;">\n<div class="has-user-generated-content" style="margin: 0px\; padding: 0px\;">\n<div class="text-body-medium" data-automation="listing-event-description" style="margin: 0px\; padding: 0px\; font-size: 0.933333rem\; line-height: 1.25rem\;"><span style="font-weight: 700\; padding-top: 0px\;">Come together with your education peers across 35 counties to understand the needs of healthcare employers in South Georgia.</span></div>\n</div>\n</div>\n</div>\n\n<div class="g-group l-mar-bot-6 l-sm-mar-bot-4" style="margin: 0px 0px 30px\; padding: 0px\; font-size: 0px\; letter-spacing: 0px\;">\n<div class="structured-content g-cell g-cell-10-12 g-cell-md-1-1" style="margin: 0px\; padding: 0px 15px\; width: 560px\; box-sizing: border-box\; display: inline-block\; overflow: hidden\; vertical-align: top\; letter-spacing: 0.5px\; font-size: 0.933333rem\; line-height: 1.25rem\;">\n<h2 class="text-body-large hide-small" style="margin: 0px -0.25px 0px 0px\; padding: 0px\; font-weight: 600\; font-size: 1.2rem\; line-height: 1.5rem\; letter-spacing: 0.25px\;">About this event</h2>\n\n<div class="has-user-generated-content" data-automation="about-this-event-sc" style="margin: 0px\; padding: 0px\;">\n<div class="structured-content-rich-text structured-content__module l-align-left l-mar-vert-6 l-sm-mar-vert-4 text-body-medium" style="margin: 30px 0px\; padding: 0px\; font-size: 0.933333rem\; line-height: 1.25rem\; text-rendering: optimizelegibility\;">\n<p style="margin: 0px\; padding: 0px\; color: rgb(111\, 114\, 135)\; font-size: 16px\; line-height: 1.5rem\;">This is a healthcare partnership with the 35 counties in South Georgia to connect employers\, educators\, and community partners. The goal of this summit is partnership development\, worksite engagement\, building a strong pathway into healthcare\, sharing resources\, and increasing communication.</p>\n\n<p style="margin: 0px\; padding: 10px 0px 0px\; color: rgb(111\, 114\, 135)\; font-size: 16px\; line-height: 1.5rem\;">*Mask will be required and provided.</p>\n\n<p style="margin: 0px\; padding: 10px 0px 0px\; color: rgb(111\, 114\, 135)\; font-size: 16px\; line-height: 1.5rem\;">*Sanitatizer will also be provided.</p>\n</div>\n</div>\n</div>\n</div>\n</div>\n<span style="color: rgb(57\, 54\, 79)\; font-family: &quot\;Neue Plak&quot\;\, -apple-system\, BlinkMacSystemFont\, Roboto\, &quot\;Helvetica Neue&quot\;\, Helvetica\, Tahoma\, Arial\, sans-serif\; font-size: 0px\;">&nbsp\;</span>\n\n<div class="g-cell g-cell-12-12 g-cell-md-4-12 g-offset-md-1-12 g-cell--no-gutters l-lg-pad-left-6" style="margin: 0px 0px 0px 79.9844px\; padding: 0px\; width: 319.984px\; box-sizing: border-box\; display: inline-block\; overflow: hidden\; vertical-align: top\; letter-spacing: 0.5px\; font-size: 0.933333rem\; line-height: 1.25rem\; color: rgb(57\, 54\, 79)\; font-family: &quot\;Neue Plak&quot\;\, -apple-system\, BlinkMacSystemFont\, Roboto\, &quot\;Helvetica Neue&quot\;\, Helvetica\, Tahoma\, Arial\, sans-serif\;">\n<div class="event-details hide-small" style="margin: 0px\; padding: 0px\;">\n<h3 class="label-primary normal-case l-mar-bot-2" data-automation="listing-info-language" style="margin: 0px 0px 10px\; padding: 0px\; color: rgb(30\, 10\, 60)\; line-height: 1.4rem\; font-size: 1rem\;">Date and time</h3>\n\n<div class="event-details__data" style="margin: 0px 0px 50px\; padding: 0px\;">\n<p class="js-date-time-first-line" style="margin: 0px\; padding: 0px\;"><time class="clrfix" data-automation="event-details-time">Wed\, February 23\, 2022</time></p>\n\n<p class="js-date-time-second-line" style="margin: 0px\; padding: 0px\;"><time class="clrfix" data-automation="event-details-time">10:00 AM &ndash\; 2:00 PM EST</time></p>\n</div>\n\n<h3 class="label-primary l-mar-bot-2" style="margin: 0px 0px 10px\; padding: 0px\; color: rgb(30\, 10\, 60)\; line-height: 1.4rem\; font-size: 1rem\; text-transform: capitalize\;">Location</h3>\n\n<div class="event-details__data" style="margin: 0px\; padding: 0px\;">\n<p style="margin: 0px\; padding: 0px\;">University of Georgia Tifton Campus Conference Center</p>\n\n<p style="margin: 0px\; padding: 0px\;">15 R D C Road</p>\n\n<p style="margin: 0px\; padding: 0px\;">Tifton\, GA 31794</p>\n\n<p style="margin: 0px\; padding: 0px\;">&nbsp\;</p>\n</div>\n</div>\n</div>\n
LOCATION:
UID:e.3211.999
SEQUENCE:3
DTSTAMP:20260423T034226Z
URL:https://business.thomasvillechamber.com/events/details/south-georgia-healthcare-summit-999
END:VEVENT

END:VCALENDAR
