BEGIN:VCALENDAR
VERSION:2.0
PRODID:-//ChamberMaster//Event Calendar 2.0//EN
METHOD:PUBLISH
X-PUBLISHED-TTL:P3D
REFRESH-INTERVAL:P3D
CALSCALE:GREGORIAN
BEGIN:VEVENT
DTSTART:20220205T220000Z
DTEND:20220206T020000Z
X-MICROSOFT-CDO-ALLDAYEVENT:FALSE
SUMMARY:SRTC Comedy Night
DESCRIPTION:Event: Comedy Night LIVE at the Kirbo Center\n\nBenefiting: Southern Regional Technical College Foundation \n\nAddress: 2500 E. Shotwell Street | Bainbridge\, GA \n\nDate: February 5\, 2022\n\nTime: Cocktail Hour @ 5 pm\, Dinner @ 6 pm\, Entertainment at 7:30 pm
X-ALT-DESC;FMTTYPE=text/html:<span style="color:#002E5D\;"><span style="font-family:calibri\,sans-serif\;"><span style="font-size:11.0pt\;">Event: Comedy Night LIVE at the Kirbo Center</span></span></span><br />\n<span style="color:#002E5D\;"><span style="font-family:calibri\,sans-serif\;"><span style="font-size:11.0pt\;">Benefiting: Southern Regional Technical College Foundation </span></span></span><br />\n<span style="color:#002E5D\;"><span style="font-family:calibri\,sans-serif\;"><span style="font-size:11.0pt\;">Address: 2500 E. Shotwell Street | Bainbridge\, GA </span></span></span><br />\n<span style="color:#002E5D\;"><span style="font-family:calibri\,sans-serif\;"><span style="font-size:11.0pt\;">Date: February 5\, 2022</span></span></span><br />\n<span style="color:#002E5D\;"><span style="font-family:calibri\,sans-serif\;"><span style="font-size:11.0pt\;">Time: Cocktail Hour @ 5 pm\, Dinner @ 6 pm\, Entertainment at 7:30 pm</span></span></span>
LOCATION:
UID:e.3211.926
SEQUENCE:3
DTSTAMP:20260423T052500Z
URL:https://business.thomasvillechamber.com/events/details/srtc-comedy-night-926
END:VEVENT

END:VCALENDAR
