BEGIN:VCALENDAR
VERSION:2.0
PRODID:-//ChamberMaster//Event Calendar 2.0//EN
METHOD:PUBLISH
X-PUBLISHED-TTL:P3D
REFRESH-INTERVAL:P3D
CALSCALE:GREGORIAN
BEGIN:VEVENT
DTSTART:20260423T210000Z
DTEND:20260423T223000Z
X-MICROSOFT-CDO-ALLDAYEVENT:FALSE
SUMMARY:Stony Creek Landscaping Business After Hours
DESCRIPTION:Join us to celebrate Stony Creek Landscaping's 30th Anniversary with a Business After Hours! Join us April 23rd to celebrate from 5-6:30 PM at 13320 Hwy 319 N\, Thomasville\, GA 31757! No registration is required.
X-ALT-DESC;FMTTYPE=text/html:Join us to celebrate Stony Creek Landscaping&#39\;s 30th Anniversary with a Business After Hours! Join us April 23rd to celebrate from 5-6:30 PM at 13320 Hwy 319 N\, Thomasville\, GA 31757! No registration is required.
LOCATION:13320 Hwy 319 N\, Thomasville\, GA 31757
UID:e.3211.2072
SEQUENCE:3
DTSTAMP:20260421T190311Z
URL:https://business.thomasvillechamber.com/events/details/stony-creek-landscaping-business-after-hours-2072
END:VEVENT

END:VCALENDAR
