BEGIN:VCALENDAR
VERSION:2.0
PRODID:-//ChamberMaster//Event Calendar 2.0//EN
METHOD:PUBLISH
X-PUBLISHED-TTL:P3D
REFRESH-INTERVAL:P3D
CALSCALE:GREGORIAN
BEGIN:VEVENT
DTSTART:20211213T151500Z
DTEND:20211213T153000Z
X-MICROSOFT-CDO-ALLDAYEVENT:FALSE
SUMMARY:Surcheros Grand Opening and Ribbon Cutting
DESCRIPTION:Join us Monday\, December 13th @ 10:15 AM to celebrate the grand opening and ribbon cutting ceremony of Surcheros!
X-ALT-DESC;FMTTYPE=text/html:<table align="center" border="0" cellpadding="0" cellspacing="0" style="width:100.0%\;border-collapse:collapse\;" width="100%">\n	<tbody>\n		<tr>\n			<td style="padding:0in 0in 0in 0in\;vertical-align:top\;">\n			<table border="0" cellpadding="0" cellspacing="0" style="width:100.0%\;border-collapse:collapse\;" width="100%">\n				<tbody>\n					<tr>\n						<td style="padding:0in 0in 0in 0in\;">\n						<table border="0" cellpadding="0" cellspacing="0" style="width:100.0%\;border-collapse:collapse\;" width="100%">\n							<tbody>\n								<tr>\n									<td style="width:100.0%\;padding:0in 0in 0in 0in\;vertical-align:top\;">\n									<table border="0" cellpadding="0" cellspacing="0" style="width:100.0%\;border-collapse:collapse\;" width="100%">\n										<tbody>\n											<tr>\n												<td style="padding:7.5pt 15.0pt 7.5pt 15.0pt\;vertical-align:top\;"><span style="color:#BFBFBF\;"><span style="font-family:lucida sans unicode\,sans-serif\;"><span style="font-size:12.0pt\;">Join us Monday\, December 13th @ 10:15 AM to celebrate the grand opening and ribbon cutting ceremony of Surcheros! </span></span></span></td>\n											</tr>\n										</tbody>\n									</table>\n									</td>\n								</tr>\n							</tbody>\n						</table>\n						</td>\n					</tr>\n				</tbody>\n			</table>\n			</td>\n		</tr>\n	</tbody>\n</table>\n\n<div style="clear:both\;">&nbsp\;</div>\n
LOCATION:
UID:e.3211.970
SEQUENCE:3
DTSTAMP:20260423T091859Z
URL:https://business.thomasvillechamber.com/events/details/surcheros-grand-opening-and-ribbon-cutting-970
END:VEVENT

END:VCALENDAR
