BEGIN:VCALENDAR
VERSION:2.0
PRODID:-//ChamberMaster//Event Calendar 2.0//EN
METHOD:PUBLISH
X-PUBLISHED-TTL:P3D
REFRESH-INTERVAL:P3D
CALSCALE:GREGORIAN
BEGIN:VEVENT
DTSTART:20181009T150000Z
DTEND:20181009T170000Z
X-MICROSOFT-CDO-ALLDAYEVENT:FALSE
SUMMARY:Tastykake Make Happy Happen Tour
DESCRIPTION:The Tastykake Make Happy Happen tour is coming to Thomasville for 1 day only! We'll be downtown between 11am-1pm and out front of Walmart between 4:00pm-6:30pm. There will be free Product Sampling and Giveaways.
X-ALT-DESC;FMTTYPE=text/html:The Tastykake Make Happy Happen tour is coming to Thomasville for 1 day only! We&#39\;ll be downtown between 11am-1pm and out front of Walmart between 4:00pm-6:30pm. There will be free&nbsp\;<span style="font-family:calibri\,sans-serif\;"><span style="font-size:11.0pt\;">Product Sampling and Giveaways.</span></span><br />\n&nbsp\;
LOCATION:11am-1pm\, Parking lot behind the Flowers Heritage Building\, to the left of The Scoop (115 W Jefferson St\, Thomasville\, GA 31792) \; 4pm-6:30pm out front of Walmart (15328 Us Highway 19 S\, GA 31757)
UID:e.3211.504
SEQUENCE:3
DTSTAMP:20260426T020128Z
URL:https://business.thomasvillechamber.com/events/details/tastykake-make-happy-happen-tour-504
END:VEVENT

END:VCALENDAR
