BEGIN:VCALENDAR
VERSION:2.0
PRODID:-//ChamberMaster//Event Calendar 2.0//EN
METHOD:PUBLISH
X-PUBLISHED-TTL:P3D
REFRESH-INTERVAL:P3D
CALSCALE:GREGORIAN
BEGIN:VEVENT
DTSTART;VALUE=DATE:20221112
DTEND;VALUE=DATE:20221113
TRANSP:TRANSPARENT
X-MICROSOFT-CDO-ALLDAYEVENT:TRUE
SUMMARY:The GP First Annual Invitational Pheasant Shoot
DESCRIPTION:Details\n\n\n\nThe Gathering Place cordially invites you to participate in a Pheasant Tower Shoot at Dogwood Plantation Hunting Preserve. All proceeds will go to support the Gathering Place Youth.  \n\nThe Dogwood Shooting Preserve\, operated by the Gainey Family encompasses more than 1\,100 acres. The Tower Shoot will be in an open field surrounded by pasture\, pines and hardwoods on a lake. There will be 15 stations (or hay bales) surrounding a release center in a way that offers safety for all hunters\, guests\, dogs and staff. Each station can accommodate 4 shooters (2 active at a time). If you have never participated in a Pheasant Tower Shoot you will not want to miss this exciting event. \n\nEvent Details \n\n\n	Check-in begins at 8:00am and 12:00pm. One hour prior to the beginning of each shoot.  \n	Multiple Bales available for purchase \n	300 birds (Each shoot) -Dog Handlers will be Retrieving Birds \n	GREAT LUNCH at noon by H&M BBQ \n	Pheasants will be dressed (distributed equally between hunters) \n	Hunters are allowed to bring their own dogs\, but there is a $125 fee.\n	Hunters will need to bring their own shot gun shells\n	To be an event sponsor\, please email Adrian@thegp.org\n\n	\n\n	Your Gathering Place donation to participate is $450 per shooter or $1800 per bale (may be split between 4 shooters\, only 2 active shooters at a time). Tax-deductible receipt provided by The GP. \n\n	\n\n	Please make checks payable to The GP Thomasville. Full payment is required by November  9\, 2022. Sorry\, no refunds unless event is postponed by weather and can be rescheduled. \n\n\nThank you for your Participation and Supporting The Gathering Place Youth\, Thomasville.
X-ALT-DESC;FMTTYPE=text/html:<h2 class="h3 mb-1" style="font-family: system-ui\, -apple-system\, BlinkMacSystemFont\, &quot\;Segoe UI&quot\;\, Roboto\, Helvetica\, Arial\, sans-serif\, &quot\;Apple Color Emoji&quot\;\, &quot\;Segoe UI Emoji&quot\;\, &quot\;Segoe UI Symbol&quot\;\; box-sizing: inherit\; margin: 0px 0px 0.5rem\; padding: 0px\; color: var(--color-tint0)\; font-size: 18px\; font-weight: 600\; line-height: 1.333\;">Details</h2>\n\n<div class="css-axac64" data-preformatted-content="heading-scale:legacy-church-center" style="font-family: system-ui\, -apple-system\, BlinkMacSystemFont\, &quot\;Segoe UI&quot\;\, Roboto\, Helvetica\, Arial\, sans-serif\, &quot\;Apple Color Emoji&quot\;\, &quot\;Segoe UI Emoji&quot\;\, &quot\;Segoe UI Symbol&quot\;\; box-sizing: inherit\; margin: 0px\; padding: 0px\; --heading--font-size: 1rem\; --heading--font-weight: 600\; color: rgb(61\, 61\, 61)\; font-size: 16px\;">\n<div style="box-sizing: inherit\; margin: 0px auto\; padding: 0px\; max-width: 640px\;">\n<p style="box-sizing: inherit\; margin: 0 0 var(--text--line-height\, 1.5em) 0\; padding: 0px\; color: var(--text--color)\; font-size: var(--text--font-size\, 1em)\; line-height: var(--text--line-height\, 1.5em)\;">The Gathering Place cordially invites you to participate in a Pheasant Tower Shoot at Dogwood Plantation Hunting Preserve. All proceeds will go to support the Gathering Place Youth. &nbsp\;</p>\n\n<p style="box-sizing: inherit\; margin: 0 0 var(--text--line-height\, 1.5em) 0\; padding: 0px\; color: var(--text--color)\; font-size: var(--text--font-size\, 1em)\; line-height: var(--text--line-height\, 1.5em)\;">The Dogwood Shooting Preserve\, operated by the Gainey Family encompasses more than 1\,100 acres. The Tower Shoot will be in an open field surrounded by pasture\, pines and hardwoods on a lake. There will be 15 stations (or hay bales) surrounding a release center in a way that offers safety for all hunters\, guests\, dogs and staff. Each station can accommodate 4 shooters (2 active at a time). If you have never participated in a Pheasant Tower Shoot you will not want to miss this exciting event.&nbsp\;</p>\n\n<p style="box-sizing: inherit\; margin: 0 0 var(--text--line-height\, 1.5em) 0\; padding: 0px\; color: var(--text--color)\; font-size: var(--text--font-size\, 1em)\; line-height: var(--text--line-height\, 1.5em)\;"><span style="box-sizing: inherit\; font-weight: 600\; -webkit-font-smoothing: auto\;">Event Details&nbsp\;</span></p>\n\n<ul style="box-sizing: inherit\; margin: 0 0 var(--text--line-height\, 1.5em) 0\; padding: var(--list--padding\, 0 0 0 2em)\; color: var(--text--color)\; font-size: var(--text--font-size\, 1em)\; line-height: var(--text--line-height\, 1.5em)\;">\n	<li style="box-sizing: inherit\; margin: 0px\; padding: 0px\;">Check-in begins at 8:00am and 12:00pm. One hour prior to the beginning of each shoot. &nbsp\;</li>\n	<li style="box-sizing: inherit\; margin: 0px\; padding: 0px\;">Multiple Bales available for purchase&nbsp\;</li>\n	<li style="box-sizing: inherit\; margin: 0px\; padding: 0px\;">300 birds (Each shoot) -Dog Handlers will be Retrieving Birds&nbsp\;</li>\n	<li style="box-sizing: inherit\; margin: 0px\; padding: 0px\;">GREAT LUNCH at noon by H&amp\;M BBQ&nbsp\;</li>\n	<li style="box-sizing: inherit\; margin: 0px\; padding: 0px\;">Pheasants will be dressed (distributed equally between hunters)&nbsp\;</li>\n	<li style="box-sizing: inherit\; margin: 0px\; padding: 0px\;">Hunters are allowed to bring their own dogs\, but there is a $125 fee.</li>\n	<li style="box-sizing: inherit\; margin: 0px\; padding: 0px\;"><span style="box-sizing: inherit\; font-weight: 600\; -webkit-font-smoothing: auto\;">Hunters will need to bring their own shot gun shells</span></li>\n	<li style="box-sizing: inherit\; margin: 0px\; padding: 0px\;">To be an event sponsor\, please email Adrian@thegp.org<br style="box-sizing: inherit\;" />\n	<br style="box-sizing: inherit\;" />\n	Your Gathering Place donation to participate is $450 per shooter or $1800 per bale (may be split between 4 shooters\, only 2 active shooters at a time). Tax-deductible receipt provided by The GP.&nbsp\;<br style="box-sizing: inherit\;" />\n	<br style="box-sizing: inherit\;" />\n	Please make checks payable to The GP Thomasville. Full payment is required by November&nbsp\; 9\, 2022. Sorry\, no refunds unless event is postponed by weather and can be rescheduled.&nbsp\;</li>\n</ul>\n\n<p style="box-sizing: inherit\; margin: 0 0 var(--text--line-height\, 1.5em) 0\; padding: 0px\; color: var(--text--color)\; font-size: var(--text--font-size\, 1em)\; line-height: var(--text--line-height\, 1.5em)\;">Thank you for your Participation and Supporting The Gathering Place Youth\, Thomasville.</p>\n</div>\n</div>\n
LOCATION:LOCATION Dogwood Hunting Preserve 376 Gainey Rd Cairo\, GA 39828 Show mapGet directions SELECTIONS Single Hunter (9AM) $450 59 remaining Hunter Team (9am) $1\,800 Single Hunter (1PM) $450 60 remaining Team Hunter (1PM) $1\,800
UID:e.3211.1654
SEQUENCE:3
DTSTAMP:20260422T120822Z
URL:https://business.thomasvillechamber.com/events/details/the-gp-first-annual-invitational-pheasant-shoot-1654
END:VEVENT

END:VCALENDAR
