BEGIN:VCALENDAR
VERSION:2.0
PRODID:-//ChamberMaster//Event Calendar 2.0//EN
METHOD:PUBLISH
X-PUBLISHED-TTL:P3D
REFRESH-INTERVAL:P3D
CALSCALE:GREGORIAN
BEGIN:VEVENT
DTSTART;VALUE=DATE:20220819
DTEND;VALUE=DATE:20220821
TRANSP:TRANSPARENT
X-MICROSOFT-CDO-ALLDAYEVENT:TRUE
SUMMARY:The Great Georgia Pollinator Census
DESCRIPTION:Join us at Pebble Hill Plantation to take part in the Great Georgia Pollinator Census!  This event is FREE and is family-friendly.  The statewide pollinator census is sponsored by the University of Georgia and is a study to help in the preservation of our fragile pollinator populations.  \n\nParticipants will observe and record the species and numbers of various pollinators they spot in the Kitchen Garden.  Materials will be provided and you do not have to be an expert to join in the fun.  Data collected will be invaluable for the research of pollinators by the University of Georgia.
X-ALT-DESC;FMTTYPE=text/html:Join us at Pebble Hill Plantation to take part in the Great Georgia Pollinator Census!&nbsp\; This event is FREE and is family-friendly.&nbsp\; The statewide pollinator census is sponsored by the University of Georgia and is a study to help in the preservation of our fragile pollinator populations.&nbsp\;&nbsp\;<br />\nParticipants will observe and record the species and numbers of various pollinators they spot in the Kitchen Garden.&nbsp\; Materials will be provided and you do not have to be an expert to join in the fun.&nbsp\; Data collected will be invaluable for the research of pollinators by the University of Georgia.&nbsp\;
LOCATION:The Learning Center at Pebble Hill Plantation 1251 US HIGHWAY 319 S THOMASVILLE\, GEORGIA 31792
UID:e.3211.1025
SEQUENCE:3
DTSTAMP:20260422T183749Z
URL:https://business.thomasvillechamber.com/events/details/the-great-georgia-pollinator-census-1025
END:VEVENT

END:VCALENDAR
