BEGIN:VCALENDAR
VERSION:2.0
PRODID:-//ChamberMaster//Event Calendar 2.0//EN
METHOD:PUBLISH
X-PUBLISHED-TTL:P3D
REFRESH-INTERVAL:P3D
CALSCALE:GREGORIAN
BEGIN:VEVENT
DTSTART:20210731T170000Z
DTEND:20210731T180000Z
X-MICROSOFT-CDO-ALLDAYEVENT:FALSE
SUMMARY:The Hive Ribbon Cutting Ceremony/Grand Opening
DESCRIPTION:Join us as we celebrate the GRAND OPENING and ribbon cutting ceremony for The Hive in Boston\, GA on Saturday\, July 31st @ 1 PM!\n\n\n\nThere will be tons of door prizes - grab a friend and come enjoy the beautiful downtown Boston area.
X-ALT-DESC;FMTTYPE=text/html:Join us as we celebrate the GRAND OPENING and ribbon cutting ceremony for The Hive in Boston\, GA on Saturday\, July 31st @ 1 PM!<br />\n<br />\nThere will be tons of door prizes - grab a friend and come enjoy the beautiful downtown Boston area.
LOCATION:
UID:e.3211.937
SEQUENCE:3
DTSTAMP:20260423T174240Z
URL:https://business.thomasvillechamber.com/events/details/the-hive-ribbon-cutting-ceremony-grand-opening-937
END:VEVENT

END:VCALENDAR
