BEGIN:VCALENDAR
VERSION:2.0
PRODID:-//ChamberMaster//Event Calendar 2.0//EN
METHOD:PUBLISH
X-PUBLISHED-TTL:P3D
REFRESH-INTERVAL:P3D
CALSCALE:GREGORIAN
BEGIN:VEVENT
DTSTART:20220923T200000Z
DTEND:20220923T210000Z
X-MICROSOFT-CDO-ALLDAYEVENT:FALSE
SUMMARY:The Mash Manor Grand Opening + Ribbon Cutting Ceremony
DESCRIPTION:Join us as we celebrate the grand opening of the Mash Manor with a ribbon cutting ceremony on Friday\, September 23rd at 4:00 PM located at 316 N. Crawford St. Thomasville\, GA 31792.\n\n\n\nTHE MASH MANOR\n\nPlanning your next event or getaway? \n\n\n\nThe Manor is a beautifully restored 5 bedroom\, 5 1/2 bathroom historical home located in the heart of downtown Thomasville\; just across from the "Big Oak". This private home is the perfect location for your next getaway or get together.\n\n\n\nBook your next event or stay now at The Mash Manor\, contact us online at www.TheMashManor.com or by phone at 770-780-2476
X-ALT-DESC;FMTTYPE=text/html:Join us as we celebrate the grand opening of the Mash Manor with a ribbon cutting ceremony on Friday\, September 23rd at 4:00 PM located at 316 N. Crawford St. Thomasville\, GA 31792.<br />\n<br />\n<strong>THE MASH MANOR</strong><br />\nPlanning your next event or getaway?&nbsp\;<br />\n<br />\nThe Manor is a beautifully restored 5 bedroom\, 5 1/2 bathroom historical home located in the heart of downtown Thomasville\; just across from the &ldquo\;Big Oak&rdquo\;. This private home is the perfect location for your next getaway or get together.<br />\n<br />\nBook your next event or stay now at The Mash Manor\, contact us online at www.TheMashManor.com or by phone at 770-780-2476<br />\n&nbsp\;
LOCATION:
UID:e.3211.1030
SEQUENCE:3
DTSTAMP:20260422T155556Z
URL:https://business.thomasvillechamber.com/events/details/the-mash-manor-grand-opening-ribbon-cutting-ceremony-1030
END:VEVENT

END:VCALENDAR
