BEGIN:VCALENDAR
VERSION:2.0
PRODID:-//ChamberMaster//Event Calendar 2.0//EN
METHOD:PUBLISH
X-PUBLISHED-TTL:P3D
REFRESH-INTERVAL:P3D
CALSCALE:GREGORIAN
BEGIN:VEVENT
DTSTART:20201213T233000Z
DTEND:20201214T020000Z
X-MICROSOFT-CDO-ALLDAYEVENT:FALSE
SUMMARY:The Nutcracker
DESCRIPTION:Celebrate the holiday season with Clara as she travels to the Land of Sweets in South Georgia's favorite family tradition- The Nutcracker. This year's performance will feature an outside German Christmas Market\, and an immersive party scene\, along with all other Nutcracker favorites!
X-ALT-DESC;FMTTYPE=text/html:Celebrate the holiday season with Clara as she travels to the Land of Sweets in South Georgia&rsquo\;s favorite family tradition- The Nutcracker. This year&#39\;s performance will feature an outside German Christmas Market\, and an immersive party scene\, along with all other Nutcracker favorites!
LOCATION:The Thomasville Center for the Arts
UID:e.3211.894
SEQUENCE:3
DTSTAMP:20260424T055959Z
URL:https://business.thomasvillechamber.com/events/details/the-nutcracker-12-13-2020-894
END:VEVENT

END:VCALENDAR
