BEGIN:VCALENDAR
VERSION:2.0
PRODID:-//ChamberMaster//Event Calendar 2.0//EN
METHOD:PUBLISH
X-PUBLISHED-TTL:P3D
REFRESH-INTERVAL:P3D
CALSCALE:GREGORIAN
BEGIN:VEVENT
DTSTART:20210819T140000Z
DTEND:20210819T143000Z
X-MICROSOFT-CDO-ALLDAYEVENT:FALSE
SUMMARY:The Rodd Firm Ribbon Cutting
DESCRIPTION:Join us as we celebrate the 2 year anniversary of the Rodd Firm on August 19th @ 10 AM. The ceremony will take place at 512 S. Broad St. Thomasville\, GA 31792. \n\n\n\nWe hope to see you there!
X-ALT-DESC;FMTTYPE=text/html:Join us as we celebrate the 2 year anniversary of the Rodd Firm on August 19th @ 10 AM. The ceremony will take place at 512 S. Broad St. Thomasville\, GA 31792.&nbsp\;<br />\n<br />\nWe hope to see you there!&nbsp\;
LOCATION:
UID:e.3211.939
SEQUENCE:3
DTSTAMP:20260423T162117Z
URL:https://business.thomasvillechamber.com/events/details/the-rodd-firm-ribbon-cutting-939
END:VEVENT

END:VCALENDAR
