BEGIN:VCALENDAR
VERSION:2.0
PRODID:-//ChamberMaster//Event Calendar 2.0//EN
METHOD:PUBLISH
X-PUBLISHED-TTL:P3D
REFRESH-INTERVAL:P3D
CALSCALE:GREGORIAN
BEGIN:VEVENT
DTSTART:20220317T200000Z
DTEND:20220317T220000Z
X-MICROSOFT-CDO-ALLDAYEVENT:FALSE
SUMMARY:The Treehouse Children's Advocacy Center Hosts Chamber Connects
DESCRIPTION:Please join us for a St. Patrick's Day Celebration at Chamber Connects on March 17\, 2022 at 4-6 PM. Our host for March is the Treehouse Children's Advocacy Center (more information below). \n\n\n\nThere will be live music\, door prizes\, drinks and light bites for all that attend as we kick off the Oakfest 2022 Celebrations... don't forget your GREEN! \n\n\n\nWebsite: https://treehousethomasville.org/\n\n\n\nMore About the Host: \n\n\n\nThe Treehouse is the first and only children's advocacy center in Thomas County. The Treehouse opened its doors in 2011 with one full-time staff member. Since that time\, The Treehouse has grown into a center with three full-time staff\, four contract staff\, and one volunteer medical director.\n\nThe Treehouse is a children's advocacy center providing a safe\, comfortable\, child-friendly environment for children and their non-offending caregivers when allegations of abuse arise. The Center provides services and coordination necessary for families during child abuse investigations. Our staff provides forensic interviews\, forensic medical exams\, advocacy\, counseling and other service referrals. Children's Advocacy Centers keep children the top priority at all times.\n\nAlong with The Treehouse\, a Multi-Disciplinary Team consisting of law enforcement\, Department of Family and Childrens Services\, the District Attorney's Office\, and others work together to investigate cases of child abuse.
X-ALT-DESC;FMTTYPE=text/html:<p style="margin: 0px 0px 1.3em\; padding: 0px\; color: rgb(78\, 71\, 86)\; font-family: &quot\;Open Sans&quot\;\; font-size: 18px\;"><span style="margin: 0px\; padding: 0px\;">Please join us for a St. Patrick&#39\;s Day Celebration at Chamber Connects on March 17\, 2022 at 4-6 PM. Our host for March is the Treehouse Children&#39\;s Advocacy Center (more information below).&nbsp\;<br />\n<br />\nThere will be live music\, door prizes\, drinks and light bites for all that attend as we kick off the Oakfest 2022 Celebrations... don&#39\;t forget your GREEN!&nbsp\;<br />\n<br />\nWebsite:&nbsp\;</span><a href="https://treehousethomasville.org/">https://treehousethomasville.org/</a><br />\n<br />\n<span style="margin: 0px\; padding: 0px\;">More About the Host:&nbsp\;<br />\n<br />\nThe Treehouse is the first and only children&rsquo\;s advocacy center in Thomas County. The Treehouse opened its doors in 2011 with one full-time staff member. Since that time\, The Treehouse has grown into a center with three full-time staff\, four contract staff\, and one volunteer medical director.</span></p>\n\n<p style="margin: 0px 0px 1.3em\; padding: 0px\; color: rgb(78\, 71\, 86)\; font-family: &quot\;Open Sans&quot\;\; font-size: 18px\;"><span style="margin: 0px\; padding: 0px\;">The Treehouse is a children&rsquo\;s advocacy center providing a safe\, comfortable\, child-friendly environment for children and their non-offending caregivers when allegations of abuse arise. The Center provides services and coordination necessary for families during child abuse investigations. Our staff provides forensic interviews\, forensic medical exams\, advocacy\, counseling and other service referrals. Children&rsquo\;s Advocacy Centers keep children the top priority at all times.</span></p>\n\n<p style="margin: 0px 0px 1.3em\; padding: 0px\; color: rgb(78\, 71\, 86)\; font-family: &quot\;Open Sans&quot\;\; font-size: 18px\;"><span style="margin: 0px\; padding: 0px\;">Along with The Treehouse\, a Multi-Disciplinary Team consisting of law enforcement\, Department of Family and Childrens Services\, the District Attorney&rsquo\;s Office\, and others work together to investigate cases of child abuse.&nbsp\;</span></p>\n
LOCATION:510 Gordon Ave. Thomasville\, GA 31792
UID:e.3211.975
SEQUENCE:3
DTSTAMP:20260423T034318Z
URL:https://business.thomasvillechamber.com/events/details/the-treehouse-children-s-advocacy-center-hosts-chamber-connects-975
END:VEVENT

END:VCALENDAR
