BEGIN:VCALENDAR
VERSION:2.0
PRODID:-//ChamberMaster//Event Calendar 2.0//EN
METHOD:PUBLISH
X-PUBLISHED-TTL:P3D
REFRESH-INTERVAL:P3D
CALSCALE:GREGORIAN
BEGIN:VEVENT
DTSTART:20210325T140000Z
DTEND:20210325T160000Z
X-MICROSOFT-CDO-ALLDAYEVENT:FALSE
SUMMARY:Thomas Grady Service Center Hiring Event
DESCRIPTION:A career with Thomas Grady Service Center is much more than a job   it's an opportunity to change the lives of others for the better!\n\nAre you reliable and compassionate?\n\nDo you enjoy being around people?\n\nThomas Grady Service Center advocates for those who otherwise would not have a voice and helps participants discover their gifts and realize their hopes and dreams by providing community outreach\, vocational services\, and in-home services. Thomas Grady Service Center works with people with disabilities and their families across Georgia.\n\n -\n\nINTERVIEWING GUARANTEED ONSITE THIS DAY FOR:\n\n-Licensed Practical Nurse (LPNs)\n\n-Caregivers\n\n-Certified Nursing Assistants (CNAs)\n\n-Janitors\n\n-House Managers\n\n-Client Support Workers\n\nRequirements:\n\n-Must have high school diploma or equivalent\n\n-Must have a valid driver's license\n\n-Available to work day and/or night shift schedule\n\n \n\n**Take These Steps To Confirm Registration & Prepare For This Job Hiring Event**\n\n1. Click "Going" to this Facebook Event to receive notifications about this event & YOUR CHANCE TO WIN A $25 GIFT CARD!\n\n2. Pre-apply online by completing the required application by clicking on the link within the "Ticket Admission" of the Facebook Event page or by this link: newhiresolutions.com/apply\n\n3. Have 2 forms of ID (identification) ready to bring with you on the day of the event (valid driver's license must be one of the forms)\n\n4. Be prepared to take a drug screening test should you move forward in the interview process this day at New Hire Solutions - FREE of charge!\n\n5. Please come dressed neat and tidy in casual business attire - remember\, you are coming in for a guaranteed interview if you meet all requirements above and could possibly be hired on within the same day!\n\nAny questions or concerns in regards to the open positions and work environment\, please contact the following at\n\nNew Hire Solutions\n\n229.227.9003\n\nresumes@newhiresolutions.net\n\n \n\nIf you share our passion for helping others\, we would love to hear from you and see you at this hiring event!!
X-ALT-DESC;FMTTYPE=text/html:<div>A career with Thomas Grady Service Center is much more than a job &ndash\; it&rsquo\;s an opportunity to change the lives of others for the better!</div>\n\n<div>Are you reliable and compassionate?<br />\nDo you enjoy being around people?</div>\n\n<div>Thomas Grady Service Center advocates for those who otherwise would not have a voice and helps participants discover their gifts and realize their hopes and dreams by providing community outreach\, vocational services\, and in-home services. Thomas Grady Service Center works with people with disabilities and their families across Georgia.</div>\n\n<div>&mdash\;-</div>\n\n<div>INTERVIEWING GUARANTEED ONSITE THIS DAY FOR:<br />\n-Licensed Practical Nurse (LPNs)<br />\n-Caregivers<br />\n-Certified Nursing Assistants (CNAs)<br />\n-Janitors<br />\n-House Managers<br />\n-Client Support Workers</div>\n\n<div>Requirements:<br />\n-Must have high school diploma or equivalent<br />\n-Must have a valid driver&rsquo\;s license<br />\n-Available to work day and/or night shift schedule</div>\n\n<div>&nbsp\;</div>\n\n<div>**Take These Steps To Confirm Registration &amp\; Prepare For This Job Hiring Event**<br />\n1. Click &ldquo\;Going&rdquo\; to this Facebook Event to receive notifications about this event &amp\; YOUR CHANCE TO WIN A $25 GIFT CARD!</div>\n\n<div>2. Pre-apply online by completing the required application by clicking on the link within the &ldquo\;Ticket Admission&rdquo\; of the Facebook Event page or by this link:&nbsp\;<a class="oajrlxb2 g5ia77u1 qu0x051f esr5mh6w e9989ue4 r7d6kgcz rq0escxv nhd2j8a9 nc684nl6 p7hjln8o kvgmc6g5 cxmmr5t8 oygrvhab hcukyx3x jb3vyjys rz4wbd8a qt6c0cv9 a8nywdso i1ao9s8h esuyzwwr f1sip0of lzcic4wl py34i1dx gpro0wi8" href="https://l.facebook.com/l.php?u=http%3A%2F%2Fnewhiresolutions.com%2Fapply%3Ffbclid%3DIwAR0Rd9SJYoFfkJm-CGbb56cWU_DWKXIK-ijll3AEF8_3zxu6-KDgbdmpkug&amp\;h=AT0Yd1BFOzREsMXrzJJ-oG0baDJOJz4lexaUwCwg0nmFopytlajuzBNWic108Bl26meyv7cWUS3hpbmB06IEAHrg1vFlmWYWd4IJJ8_vt5iREbPXFXg5ZH2s3_Kig8x5iQ&amp\;__tn__=q&amp\;c[0]=AT2c5tYHOw_Ar9RepI3mZPPY4zlc6MZ_a3Jb42xhdP9gQ0n_XyhI_zMeDj2VOt5ZG4HshcNJ02ct0rPylRIpWkjjSYGhhpjLUpvK7YLagvlT4n5m6tzSD_0IqSHjPmUKBDqcz0mAQvtDeu2JYqgGTAqg" rel="nofollow noopener" style="cursor: pointer\; text-decoration-line: none\; outline: none\; list-style: none\; border-width: 0px\; border-style: initial\; border-color: initial\; padding: 0px\; margin: 0px\; touch-action: manipulation\; background-color: transparent\; text-align: inherit\; display: inline\; -webkit-tap-highlight-color: transparent\; box-sizing: border-box\; font-family: inherit\;" tabindex="0" target="_blank">newhiresolutions.com/apply</a></div>\n\n<div>3. Have 2 forms of ID (identification) ready to bring with you on the day of the event (valid driver&rsquo\;s license must be one of the forms)</div>\n\n<div>4. Be prepared to take a drug screening test should you move forward in the interview process this day at New Hire Solutions - FREE of charge!</div>\n\n<div>5. Please come dressed neat and tidy in casual business attire - remember\, you are coming in for a guaranteed interview if you meet all requirements above and could possibly be hired on within the same day!</div>\n\n<div>Any questions or concerns in regards to the open positions and work environment\, please contact the following at<br />\nNew Hire Solutions<br />\n229.227.9003<br />\nresumes@newhiresolutions.net</div>\n\n<div>&mdash\;</div>\n\n<div>If you share our passion for helping others\, we would love to hear from you and see you at this hiring event!!</div>\n
LOCATION:106 Plantation Oaks Drive Thomasville\, GA 31792
UID:e.3211.918
SEQUENCE:3
DTSTAMP:20260424T003531Z
URL:https://business.thomasvillechamber.com/events/details/thomas-grady-service-center-hiring-event-918
END:VEVENT

END:VCALENDAR
