BEGIN:VCALENDAR
VERSION:2.0
PRODID:-//ChamberMaster//Event Calendar 2.0//EN
METHOD:PUBLISH
X-PUBLISHED-TTL:P3D
REFRESH-INTERVAL:P3D
CALSCALE:GREGORIAN
BEGIN:VEVENT
DTSTART:20201119T220000Z
DTEND:20201120T000000Z
X-MICROSOFT-CDO-ALLDAYEVENT:FALSE
SUMMARY:Thomasville Landmarks Annual Picnic
DESCRIPTION:Landmarks Annual Membership Picnic will honor 2020 Preservation Honor Award winners and will spotlight Paradise Park's historic bandstand. Join us on this driving tour and be prepared for a few surprises and a boxed meal for two.
X-ALT-DESC;FMTTYPE=text/html:Landmarks Annual Membership Picnic will honor 2020 Preservation Honor Award winners and will spotlight Paradise Park&#39\;s historic bandstand. Join us on this driving tour and be prepared for a few surprises and a boxed meal for two.
LOCATION:Driving tour\, City of Thomasville historic districts
UID:e.3211.888
SEQUENCE:3
DTSTAMP:20260424T075826Z
URL:https://business.thomasvillechamber.com/events/details/thomasville-landmarks-annual-picnic-888
END:VEVENT

END:VCALENDAR
