BEGIN:VCALENDAR
VERSION:2.0
PRODID:-//ChamberMaster//Event Calendar 2.0//EN
METHOD:PUBLISH
X-PUBLISHED-TTL:P3D
REFRESH-INTERVAL:P3D
CALSCALE:GREGORIAN
BEGIN:VEVENT
DTSTART:20220324T140000Z
DTEND:20220324T150000Z
X-MICROSOFT-CDO-ALLDAYEVENT:FALSE
SUMMARY:Time Capsule Burial + Bench Dedication Ceremony
DESCRIPTION:In celebration of the Thomasville-Thomas County Chamber of Commerce's 100th anniversary\, you are invited to attend our once in a lifetime event!\n\n\n\nOn March 24th\, we will be burying our time capsule that will be opened in 2122\, 100 years from now! Along with this special occasion\, we will be holding a Bench Dedication Ceremony in memory of Mr. Lloyd Eckberg that served many years as the Executive Director of the Chamber of Commerce. \n\n\n\nWe hope you will join us!
X-ALT-DESC;FMTTYPE=text/html:<span style="font-family: Raleway\, sans-serif\; font-size: 16px\; letter-spacing: 0.5px\; text-align: -webkit-center\; background-color: rgb(243\, 243\, 243)\;">In celebration of the Thomasville-Thomas County Chamber of Commerce&rsquo\;s 100th anniversary\, you are invited to attend our once in a lifetime event!<br />\n<br />\nOn March 24th\, we will be burying our time capsule that will be opened in 2122\, 100 years from now!&nbsp\;Along with this special occasion</span><span style="font-family: Raleway\, sans-serif\; font-size: 16px\; letter-spacing: 0.5px\; text-align: -webkit-center\; background-color: rgb(243\, 243\, 243)\;">\, we will be holding a Bench Dedication Ceremony in memory of Mr. Lloyd Eckberg that served many years as the Executive Director of the Chamber of Commerce.&nbsp\;<br />\n<br />\nWe hope you will join us!&nbsp\;&nbsp\;</span>
LOCATION:Thomasville-Thomas County Chamber of Commerce - 401 S. Broad St. Thomasville\, GA 31792
UID:e.3211.992
SEQUENCE:3
DTSTAMP:20260423T034122Z
URL:https://business.thomasvillechamber.com/events/details/time-capsule-burial-bench-dedication-ceremony-992
END:VEVENT

END:VCALENDAR
