BEGIN:VCALENDAR
VERSION:2.0
PRODID:-//ChamberMaster//Event Calendar 2.0//EN
METHOD:PUBLISH
X-PUBLISHED-TTL:P3D
REFRESH-INTERVAL:P3D
CALSCALE:GREGORIAN
BEGIN:VEVENT
DTSTART:20220414T210000Z
DTEND:20220414T220000Z
X-MICROSOFT-CDO-ALLDAYEVENT:FALSE
SUMMARY:TOC Ribbon Cutting Ceremony
DESCRIPTION:Join us for the grand opening of the new location for TOC Thomasville clinic on Thursday\, April 14th at 5:00 PM. We will be kicking it off with a ribbon cutting ceremony around 5:15 PM at 113 West Hansell Street\, Thomasville\, GA 31792.\n\n\n\nTOC Thomasville has physicians specializing in all orthopedic conditions including the spine\, hip\, knee\, hand\, wrist\, foot\, ankle\, elbow\, and shoulder. Our Board Certified Physicians provide total joint replacement\, diagnosis\, and treatment of athletic injuries.
X-ALT-DESC;FMTTYPE=text/html:<span style="color: rgb(76\, 76\, 76)\; font-family: &quot\;Gothic A1&quot\;\, sans-serif\; font-size: 16px\; text-align: justify\;">Join us for the grand opening of the new location for TOC Thomasville clinic on Thursday\, April 14th at 5:00 PM. We will be kicking it off with a ribbon cutting ceremony around 5:15 PM at <strong>113 West Hansell Street\, Thomasville\, GA 31792</strong>.<br />\n<br />\nTOC Thomasville has physicians specializing in all orthopedic conditions including the spine\, hip\, knee\, hand\, wrist\, foot\, ankle\, elbow\, and shoulder. Our Board Certified Physicians provide total joint replacement\, diagnosis\, and treatment of athletic injuries.</span>
LOCATION:113 West Hansell Street\, Thomasville\, GA 31792
UID:e.3211.1008
SEQUENCE:3
DTSTAMP:20260423T014653Z
URL:https://business.thomasvillechamber.com/events/details/toc-ribbon-cutting-ceremony-1008
END:VEVENT

END:VCALENDAR
