BEGIN:VCALENDAR
VERSION:2.0
PRODID:-//ChamberMaster//Event Calendar 2.0//EN
METHOD:PUBLISH
X-PUBLISHED-TTL:P3D
REFRESH-INTERVAL:P3D
CALSCALE:GREGORIAN
BEGIN:VEVENT
DTSTART:20220603T160000Z
DTEND:20220603T163000Z
X-MICROSOFT-CDO-ALLDAYEVENT:FALSE
SUMMARY:Top Notch Training Institute Ribbon Cutting Ceremony
DESCRIPTION:This Friday\, June 3rd\, at 12:00 PM as we celebrate the ribbon cutting ceremony for Top Notch Training Institute.\n\n\n\nTop Notch Training Institute is a local Cosmetology\, Barber\, Nail\, Esthetics School located at 503 North Blvd.\, Thomasville\, Georgia 31792. \n\n\n\nOwner\, Sybol Corker\, is a current SPARK Program participant and is excited to rebrand the business and help others start their own in the world of cosmetology!\n\n\n\nPhone: 229-236-8670\n\nWebsite: https://bit.ly/3LB5GfS\n\nEmail: tntistudents@gmail.com
X-ALT-DESC;FMTTYPE=text/html:&#120389\;&#120420\;&#120414\;&#120419\; &#120426\;&#120424\; &bull\; This Friday\, June 3rd\, at 12:00 PM as we celebrate the ribbon cutting ceremony for Top Notch Training Institute.<br />\n<br />\nTop Notch Training Institute is a local Cosmetology\, Barber\, Nail\, Esthetics School located at 503 North Blvd.\, Thomasville\, Georgia 31792.&nbsp\;<br />\n<br />\nOwner\, Sybol Corker\, is a current SPARK Program participant and is excited to rebrand the business and help others start their own in the world of cosmetology!<br />\n<br />\nPhone: 229-236-8670<br />\nWebsite: https://bit.ly/3LB5GfS<br />\nEmail: tntistudents@gmail.com
LOCATION:503 North Blvd.\, Thomasville\, Georgia 31792
UID:e.3211.1014
SEQUENCE:3
DTSTAMP:20260422T221527Z
URL:https://business.thomasvillechamber.com/events/details/top-notch-training-institute-ribbon-cutting-ceremony-1014
END:VEVENT

END:VCALENDAR
