BEGIN:VCALENDAR
VERSION:2.0
PRODID:-//ChamberMaster//Event Calendar 2.0//EN
METHOD:PUBLISH
X-PUBLISHED-TTL:P3D
REFRESH-INTERVAL:P3D
CALSCALE:GREGORIAN
BEGIN:VEVENT
DTSTART:20231104T120000Z
DTEND:20231104T200000Z
X-MICROSOFT-CDO-ALLDAYEVENT:FALSE
SUMMARY:TU Military Football Homecoming
DESCRIPTION:8 a.m. Saturday will be the second annual 'Geeks vs. Guardians' 5k run. The run celebrates veterans' day and promotes the synergy of TU academics and the military. This year\, the race will include not only veterans from the surrounding area\, but a number of National Guard members. At 10:30\, a variety of events will be available to the general public at Veteran's Memorial Stadium including:   Face painting   Inflatable games   Obstacle course   TU's Rock Band will provide music prior to game   Military affiliated tailgate (open to all veterans and individuals affiliated with the military) The TU Military Transition Football team will kick off at noon against St. Thomas University.   Prior to kick-off\, there will be a swearing-in ceremony for all TU students joining the service   Presentation of colors by the JROTC at Thomas County Central   Half-time performance by Thomasville High School Marching Bulldogs
X-ALT-DESC;FMTTYPE=text/html:8 a.m. Saturday will be the second annual &lsquo\;Geeks vs. Guardians&rsquo\; 5k run. The run celebrates veterans&rsquo\; day and promotes the synergy of TU academics and the military. This year\, the race will include not only veterans from the surrounding area\, but a number of National Guard members. At 10:30\, a variety of events will be available to the general public at Veteran&rsquo\;s Memorial Stadium including: &bull\; Face painting &bull\; Inflatable games &bull\; Obstacle course &bull\; TU&rsquo\;s Rock Band will provide music prior to game &bull\; Military affiliated tailgate (open to all veterans and individuals affiliated with the military) The TU Military Transition Football team will kick off at noon against St. Thomas University. &bull\; Prior to kick-off\, there will be a swearing-in ceremony for all TU students joining the service &bull\; Presentation of colors by the JROTC at Thomas County Central &bull\; Half-time performance by Thomasville High School Marching Bulldogs
LOCATION:5k run - TU Forbes Campus Homecoming activities at Veteran's Memorial Stadium
UID:e.3211.1685
SEQUENCE:3
DTSTAMP:20260421T161312Z
URL:https://business.thomasvillechamber.com/events/details/tu-military-football-homecoming-1685
END:VEVENT

END:VCALENDAR
