BEGIN:VCALENDAR
VERSION:2.0
PRODID:-//ChamberMaster//Event Calendar 2.0//EN
METHOD:PUBLISH
X-PUBLISHED-TTL:P3D
REFRESH-INTERVAL:P3D
CALSCALE:GREGORIAN
BEGIN:VEVENT
DTSTART:20210921T160000Z
DTEND:20210921T170000Z
X-MICROSOFT-CDO-ALLDAYEVENT:FALSE
SUMMARY:UGA SBDC Webinar
DESCRIPTION:This course is designed to help small business owners create an environment that will attract\, retain\, and sustain talent. The course will also allow owners to evaluate their HR practices while challenging them to create best practices that will get the results they desire when it comes to hiring.\n\n\n\nCourse Outline\n\nDiscussion will include:\n\n*Creating a culture that includes clear vision\, mission\, and core values that people want to be a part of.\n\n*Creating an environment that will reduce turnover and increase morale.\n\n\n\nLearner Outcomes\n\nAttendees will gain an understanding of: \n\n*How to attract\, retain\, and sustain a team.\n\n*Best practices for hiring employees.\n\n\n\nNotes\n\n\n\nA Public Service and Outreach Unit of the University of Georgia. Funded in part through a Cooperative Agreement with the U.S. Small Business Administration. All programs of the UGA SBDC are open to the public on a non-discriminatory basis. Reasonable accommodations for person with disabilities will be made if requested at least two weeks in advance.
X-ALT-DESC;FMTTYPE=text/html:This course is designed to help small business owners create an environment that will attract\, retain\, and sustain talent. The course will also allow owners to evaluate their HR practices while challenging them to create best practices that will get the results they desire when it comes to hiring.<br />\n<br />\nCourse Outline<br />\nDiscussion will include:<br />\n*Creating a culture that includes clear vision\, mission\, and core values that people want to be a part of.<br />\n*Creating an environment that will reduce turnover and increase morale.<br />\n<br />\nLearner Outcomes<br />\nAttendees will gain an understanding of:&nbsp\;<br />\n*How to attract\, retain\, and sustain a team.<br />\n*Best practices for hiring employees.<br />\n<br />\nNotes<br />\n<br />\nA Public Service and Outreach Unit of the University of Georgia. Funded in part through a Cooperative Agreement with the U.S. Small Business Administration. All programs of the UGA SBDC are open to the public on a non-discriminatory basis. Reasonable accommodations for person with disabilities will be made if requested at least two weeks in advance.<br />\n<br />\n&nbsp\;
LOCATION:
UID:e.3211.955
SEQUENCE:3
DTSTAMP:20260423T160511Z
URL:https://business.thomasvillechamber.com/events/details/uga-sbdc-webinar-955
END:VEVENT

END:VCALENDAR
