BEGIN:VCALENDAR
VERSION:2.0
PRODID:-//ChamberMaster//Event Calendar 2.0//EN
METHOD:PUBLISH
X-PUBLISHED-TTL:P3D
REFRESH-INTERVAL:P3D
CALSCALE:GREGORIAN
BEGIN:VEVENT
DTSTART:20210901T160000Z
DTEND:20210901T160000Z
X-MICROSOFT-CDO-ALLDAYEVENT:FALSE
SUMMARY:United Way of Thomas County Kickoff
DESCRIPTION:Annual United Way Kickoff David Pollack is the guest speaker Table reservations required
X-ALT-DESC;FMTTYPE=text/html:Annual United Way Kickoff David Pollack is the guest speaker Table reservations required
LOCATION:For more information call the United Way office
UID:e.3211.940
SEQUENCE:3
DTSTAMP:20260423T144437Z
URL:https://business.thomasvillechamber.com/events/details/united-way-of-thomas-county-kickoff-940
END:VEVENT

END:VCALENDAR
