BEGIN:VCALENDAR
VERSION:2.0
PRODID:-//ChamberMaster//Event Calendar 2.0//EN
METHOD:PUBLISH
X-PUBLISHED-TTL:P3D
REFRESH-INTERVAL:P3D
CALSCALE:GREGORIAN
BEGIN:VEVENT
DTSTART:20210913T140000Z
DTEND:20210913T140000Z
X-MICROSOFT-CDO-ALLDAYEVENT:FALSE
SUMMARY:Upcoming Business Training Webinars
DESCRIPTION:Marketing Monday: Six steps to grow your sales! $29.99\n\n \n\nWant to bring in new customers and grow your sales? This webinar explores the six key steps to grow your sales. It will help you to prepare\, find and maximize your next sales opportunity. Learn how to identify your ideal customer and zero in on those potential clients. Discussion includes understanding the importance of knowing what is "keeping your prospects up at night" and tailoring your presentation to solve their problems\, gain their trust and win more business!\n\nThis webinar is a convenient and economical way to train your staff. Great opportunity for small business owners and their salespeople to learn how to close more sales.  \n\n\n\nCourse Outline\n\nAgenda\n\n\n	Defining a sales management process.\n	Finding your ideal customer\n	Sales tracking technology.\n	Hiring the best sales talent for your culture.\n	Evaluating your current sales process.\n\n\n\n\nLearner Outcomes\n\nAttendees will gain an understanding of:\n\n\n	The sales process\n	Six steps of the sales cycle\n	Technology tools to aid your in the sales process\n	How to explain your Unique Value Proposition in 3 concise sentences\n\n\n\n\nNotes\n\nA Public Service and Outreach Unit of the University of Georgia. Funded in part through a Cooperative Agreement with the U.S. Small Business Administration. All programs of the UGA SBDC are open to the public on a non-discriminatory basis. Reasonable accommodations for persons with disabilities will be made if requested at least two weeks in advance.
X-ALT-DESC;FMTTYPE=text/html:Marketing Monday: Six steps to grow your sales! $29.99<br />\n&nbsp\;\n<div id="courseProfileOfficialCourseDescription" style="box-sizing: border-box\; color: rgb(119\, 119\, 119)\; font-family: &quot\;Merriweather Sans&quot\;\, Tahoma\, sans-serif\; font-size: 16px\;">\n<p style="box-sizing: border-box\; margin-top: 0px\; margin-bottom: 1rem\;">Want to bring in new customers and grow your sales? This webinar explores the six key steps to grow your sales. It&nbsp\;will help you to prepare\, find and maximize your next sales opportunity. Learn how to identify your ideal customer and zero in on those potential clients. Discussion includes understanding the importance of knowing what is &ldquo\;keeping your prospects up at night&rdquo\; and tailoring your presentation to solve their problems\, gain their trust and win more business!</p>\n\n<p style="box-sizing: border-box\; margin-top: 0px\; margin-bottom: 1rem\;"><span style="box-sizing: border-box\; font-weight: bolder\;">This webinar is a convenient and economical way to train your staff. Great opportunity for small business owners and their salespeople to learn how to close more sales. &nbsp\;</span></p>\n</div>\n\n<div id="courseProfileCatalogCourseDescription" style="box-sizing: border-box\; color: rgb(119\, 119\, 119)\; font-family: &quot\;Merriweather Sans&quot\;\, Tahoma\, sans-serif\; font-size: 16px\;">\n<h2 style="box-sizing: border-box\; margin-top: 1rem\; margin-bottom: 1rem\; font-size: 2rem\; color: rgb(186\, 12\, 47)\; font-family: Merriweather\, Georgia\, serif\;">Course Outline</h2>\n\n<p style="box-sizing: border-box\; margin-top: 0px\; margin-bottom: 1rem\;"><span style="box-sizing: border-box\; font-weight: bolder\;">Agenda</span></p>\n\n<ol style="box-sizing: border-box\; margin-top: 0px\; margin-bottom: 1rem\;">\n	<li style="box-sizing: border-box\;">Defining a sales management process.</li>\n	<li style="box-sizing: border-box\;">Finding your ideal customer</li>\n	<li style="box-sizing: border-box\;">Sales tracking technology.</li>\n	<li style="box-sizing: border-box\;">Hiring the best sales talent for your culture.</li>\n	<li style="box-sizing: border-box\;">Evaluating your current sales process.</li>\n</ol>\n</div>\n\n<div id="courseProfileLearningGoals" style="box-sizing: border-box\; color: rgb(119\, 119\, 119)\; font-family: &quot\;Merriweather Sans&quot\;\, Tahoma\, sans-serif\; font-size: 16px\;">\n<h2 style="box-sizing: border-box\; margin-top: 1rem\; margin-bottom: 1rem\; font-size: 2rem\; color: rgb(186\, 12\, 47)\; font-family: Merriweather\, Georgia\, serif\;">Learner Outcomes</h2>\n\n<p style="box-sizing: border-box\; margin-top: 0px\; margin-bottom: 1rem\;"><span style="box-sizing: border-box\; font-weight: bolder\;">Attendees will gain an understanding of:</span></p>\n\n<ul style="box-sizing: border-box\; margin-top: 0px\; margin-bottom: 1rem\;">\n	<li style="box-sizing: border-box\;">The sales process</li>\n	<li style="box-sizing: border-box\;">Six&nbsp\;steps of the sales cycle</li>\n	<li style="box-sizing: border-box\;">Technology tools to aid your in the sales process</li>\n	<li style="box-sizing: border-box\;">How to explain your Unique Value Proposition in 3 concise sentences</li>\n</ul>\n</div>\n\n<div id="courseProfileNotes" style="box-sizing: border-box\; color: rgb(119\, 119\, 119)\; font-family: &quot\;Merriweather Sans&quot\;\, Tahoma\, sans-serif\; font-size: 16px\;">\n<h2 style="box-sizing: border-box\; margin-top: 1rem\; margin-bottom: 1rem\; font-size: 2rem\; color: rgb(186\, 12\, 47)\; font-family: Merriweather\, Georgia\, serif\;">Notes</h2>\n\n<p style="box-sizing: border-box\; margin-top: 0px\; margin-bottom: 1rem\;">A Public Service and Outreach Unit of the University of Georgia. Funded in part through a Cooperative Agreement with the U.S. Small Business Administration. All programs of the UGA SBDC are open to the public on a non-discriminatory basis. Reasonable accommodations for persons with disabilities will be made if requested at least two weeks in advance.</p>\n</div>\n
LOCATION:
UID:e.3211.944
SEQUENCE:3
DTSTAMP:20260423T160858Z
URL:https://business.thomasvillechamber.com/events/details/upcoming-business-training-webinars-944
END:VEVENT

END:VCALENDAR
