BEGIN:VCALENDAR
VERSION:2.0
PRODID:-//ChamberMaster//Event Calendar 2.0//EN
METHOD:PUBLISH
X-PUBLISHED-TTL:P3D
REFRESH-INTERVAL:P3D
CALSCALE:GREGORIAN
BEGIN:VEVENT
DTSTART:20210915T123000Z
DTEND:20210915T163000Z
X-MICROSOFT-CDO-ALLDAYEVENT:FALSE
SUMMARY:Upcoming Business Training Webinars
DESCRIPTION:Quickbooks Online - From Registration to Reconcile $99.00\n\n \n\nGain a clear understanding of accounting principles as it applies to the use of the Quickbooks Online accounting system. The course begins with a basic background of accounting followed by the initial setup of a sample Quickbooks company account. You will learn how to process company transactions (deposits\, invoicing\, payments\, etc.) followed by a reconciliation of your account with a bank statement. By the end\, participants will generate financial reports to include Profit and Loss and Balance Sheet statements.\n\n\n\nCourse Outline\n\n\n	Background knowledge of accounting \n	Demonstration of setup of Quickbooks company account\n	Difference between processing deposits\, invoices\, payments\, etc.\n	Generation of financial reports to include Profit and Loss and Balance Sheet statements \n\n\n\n\nLearner Outcomes\n\n\n	Obtain a better understanding of accounting principles\n	Effectively set up a Quickbooks account\n	Accurately execute transactions\n	Utilize Quickbooks to its fullest potential\n\n\n\n\nNotes\nA Public Service and Outreach Unit of the University of Georgia.  Funded in part through a Cooperative Agreement with the U.S. Small Business Administration.  All programs of the UGA SBDC are open to the public on a non-discriminatory basis.  Reasonable accommodations for persons with disabilities will be made if requested at least two weeks in advance.
X-ALT-DESC;FMTTYPE=text/html:Quickbooks Online - From Registration to Reconcile $99.00<br />\n&nbsp\;\n<div id="courseProfileOfficialCourseDescription" style="box-sizing: border-box\; color: rgb(119\, 119\, 119)\; font-family: &quot\;Merriweather Sans&quot\;\, Tahoma\, sans-serif\; font-size: 16px\;">\n<p style="box-sizing: border-box\; margin-top: 0px\; margin-bottom: 1rem\;">Gain a clear understanding of accounting principles as it applies to the use of the Quickbooks Online accounting system. The course begins with a basic background of accounting followed by the initial setup of a sample Quickbooks company account. You will learn how to process company transactions (deposits\, invoicing\, payments\, etc.) followed by a reconciliation of your account with a bank statement. By the end\, participants will generate financial reports to include Profit and Loss and Balance Sheet statements.</p>\n</div>\n\n<div id="courseProfileCatalogCourseDescription" style="box-sizing: border-box\; color: rgb(119\, 119\, 119)\; font-family: &quot\;Merriweather Sans&quot\;\, Tahoma\, sans-serif\; font-size: 16px\;">\n<h2 style="box-sizing: border-box\; margin-top: 1rem\; margin-bottom: 1rem\; font-size: 2rem\; color: rgb(186\, 12\, 47)\; font-family: Merriweather\, Georgia\, serif\;">Course Outline</h2>\n\n<ul style="box-sizing: border-box\; margin-top: 0px\; margin-bottom: 1rem\;">\n	<li style="box-sizing: border-box\;">Background knowledge of accounting&nbsp\;</li>\n	<li style="box-sizing: border-box\;">Demonstration of setup of Quickbooks company account</li>\n	<li style="box-sizing: border-box\;">Difference between processing deposits\, invoices\, payments\, etc.</li>\n	<li style="box-sizing: border-box\;">Generation of financial reports to include Profit and Loss and Balance Sheet statements&nbsp\;</li>\n</ul>\n</div>\n\n<div id="courseProfileLearningGoals" style="box-sizing: border-box\; color: rgb(119\, 119\, 119)\; font-family: &quot\;Merriweather Sans&quot\;\, Tahoma\, sans-serif\; font-size: 16px\;">\n<h2 style="box-sizing: border-box\; margin-top: 1rem\; margin-bottom: 1rem\; font-size: 2rem\; color: rgb(186\, 12\, 47)\; font-family: Merriweather\, Georgia\, serif\;">Learner Outcomes</h2>\n\n<ul style="box-sizing: border-box\; margin-top: 0px\; margin-bottom: 1rem\;">\n	<li style="box-sizing: border-box\;">Obtain a better understanding of accounting principles</li>\n	<li style="box-sizing: border-box\;">Effectively set up a Quickbooks account</li>\n	<li style="box-sizing: border-box\;">Accurately execute transactions</li>\n	<li style="box-sizing: border-box\;">Utilize Quickbooks to its fullest potential</li>\n</ul>\n</div>\n\n<div id="courseProfileNotes" style="box-sizing: border-box\; color: rgb(119\, 119\, 119)\; font-family: &quot\;Merriweather Sans&quot\;\, Tahoma\, sans-serif\; font-size: 16px\;">\n<h2 style="box-sizing: border-box\; margin-top: 1rem\; margin-bottom: 1rem\; font-size: 2rem\; color: rgb(186\, 12\, 47)\; font-family: Merriweather\, Georgia\, serif\;">Notes</h2>\nA Public Service and Outreach Unit of the University of Georgia.&nbsp\; Funded in part through a Cooperative Agreement with the U.S. Small Business Administration.&nbsp\; All programs of the UGA SBDC are open to the public on a non-discriminatory basis.&nbsp\; Reasonable accommodations for persons with disabilities will be made if requested at least two weeks in advance.</div>\n
LOCATION:
UID:e.3211.945
SEQUENCE:3
DTSTAMP:20260423T143816Z
URL:https://business.thomasvillechamber.com/events/details/upcoming-business-training-webinars-945
END:VEVENT

END:VCALENDAR
