BEGIN:VCALENDAR
VERSION:2.0
PRODID:-//ChamberMaster//Event Calendar 2.0//EN
METHOD:PUBLISH
X-PUBLISHED-TTL:P3D
REFRESH-INTERVAL:P3D
CALSCALE:GREGORIAN
BEGIN:VEVENT
DTSTART:20210916T180000Z
DTEND:20210916T180000Z
X-MICROSOFT-CDO-ALLDAYEVENT:FALSE
SUMMARY:Upcoming Business Training Webinars
DESCRIPTION:Get your business on Google Search & Maps - $0.00\n\n \n\nShowing up when potential customers are searching online is more important than ever. Join us for a Business webinar on how Google helps your business stand out on Google Search and Maps. Show the world what's unique about your business! And\, reach customers that are searching for what you offer. We will discuss tools and tips to improve website performance and help your business appear across Google Search and Maps.\n\n\n\nCourse Outline\n\n\n	Introductions\n	What is a Business Profile on Google?\n	Take a Tour of Google My Business\n	Learn to Create your Business Profile Step by Step\n	Q&A\n	Evaluations\n\n\n\n\nLearner Outcomes\n\n\n	Update your profile with current hours\, address\, and phone number.\n	Post photos\, offers\, and news directly on your Business Profile to catch attention.\n	See your followers from Google Maps.\n	Respond to customer reviews to build credibility and loyalty.\n	Turn on messaging to help customers get in touch.\n	Explore Insights to see how customers find and engage with your Business Profile.\n\n\n\n\nNotes\nA Public Service and Outreach Unit of the University of Georgia. Funded in part through a Cooperative Agreement with the U.S. Small Business Administration. All programs of the UGA SBDC are open to the public on a non-discriminatory basis. Reasonable accommodations for persons with disabilities will be made if requested at least two weeks in advance.
X-ALT-DESC;FMTTYPE=text/html:Get your business on Google Search &amp\; Maps - $0.00<br />\n&nbsp\;\n<div id="courseProfileOfficialCourseDescription" style="box-sizing: border-box\; color: rgb(119\, 119\, 119)\; font-family: &quot\;Merriweather Sans&quot\;\, Tahoma\, sans-serif\; font-size: 16px\;">\n<p style="box-sizing: border-box\; margin-top: 0px\; margin-bottom: 1rem\;">Showing up when potential customers are searching online is more important than ever. Join us for a Business webinar on how Google helps your business stand out on Google Search and Maps. Show the world what&rsquo\;s unique about your business! And\, reach customers that are searching for what you offer. We will discuss tools and tips to improve website performance and help your business appear across Google Search and Maps.</p>\n</div>\n\n<div id="courseProfileCatalogCourseDescription" style="box-sizing: border-box\; color: rgb(119\, 119\, 119)\; font-family: &quot\;Merriweather Sans&quot\;\, Tahoma\, sans-serif\; font-size: 16px\;">\n<h2 style="box-sizing: border-box\; margin-top: 1rem\; margin-bottom: 1rem\; font-size: 2rem\; color: rgb(186\, 12\, 47)\; font-family: Merriweather\, Georgia\, serif\;">Course Outline</h2>\n\n<ul style="box-sizing: border-box\; margin-top: 0px\; margin-bottom: 1rem\;">\n	<li style="box-sizing: border-box\;"><span style="box-sizing: border-box\;">Introductions</span></li>\n	<li style="box-sizing: border-box\;"><span style="box-sizing: border-box\;">What is a Business Profile on Google?</span></li>\n	<li style="box-sizing: border-box\;"><span style="box-sizing: border-box\;">Take a Tour of Google My Business</span></li>\n	<li style="box-sizing: border-box\;"><span style="box-sizing: border-box\;">Learn to Create your Business Profile Step by Step</span></li>\n	<li style="box-sizing: border-box\;"><span style="box-sizing: border-box\;">Q&amp\;A</span></li>\n	<li style="box-sizing: border-box\;"><span style="box-sizing: border-box\;">Evaluations</span></li>\n</ul>\n</div>\n\n<div id="courseProfileLearningGoals" style="box-sizing: border-box\; color: rgb(119\, 119\, 119)\; font-family: &quot\;Merriweather Sans&quot\;\, Tahoma\, sans-serif\; font-size: 16px\;">\n<h2 style="box-sizing: border-box\; margin-top: 1rem\; margin-bottom: 1rem\; font-size: 2rem\; color: rgb(186\, 12\, 47)\; font-family: Merriweather\, Georgia\, serif\;">Learner Outcomes</h2>\n\n<ul style="box-sizing: border-box\; margin-top: 0px\; margin-bottom: 1rem\;">\n	<li style="box-sizing: border-box\;"><span style="box-sizing: border-box\;">Update your profile with current hours\, address\, and phone number.</span></li>\n	<li style="box-sizing: border-box\;"><span style="box-sizing: border-box\;">Post photos\, offers\, and news directly on your Business Profile to catch attention.</span></li>\n	<li style="box-sizing: border-box\;"><span style="box-sizing: border-box\;">See your followers from Google Maps.</span></li>\n	<li style="box-sizing: border-box\;"><span style="box-sizing: border-box\;">Respond to customer reviews to build credibility and loyalty.</span></li>\n	<li style="box-sizing: border-box\;"><span style="box-sizing: border-box\;">Turn on messaging to help customers get in touch.</span></li>\n	<li style="box-sizing: border-box\;"><span style="box-sizing: border-box\;">Explore Insights to see how customers find and engage with your Business Profile.</span></li>\n</ul>\n</div>\n\n<div id="courseProfileNotes" style="box-sizing: border-box\; color: rgb(119\, 119\, 119)\; font-family: &quot\;Merriweather Sans&quot\;\, Tahoma\, sans-serif\; font-size: 16px\;">\n<h2 style="box-sizing: border-box\; margin-top: 1rem\; margin-bottom: 1rem\; font-size: 2rem\; color: rgb(186\, 12\, 47)\; font-family: Merriweather\, Georgia\, serif\;">Notes</h2>\nA Public Service and Outreach Unit of the University of Georgia. Funded in part through a Cooperative Agreement with the U.S. Small Business Administration. All programs of the UGA SBDC are open to the public on a non-discriminatory basis. Reasonable accommodations for persons with disabilities will be made if requested at least two weeks in advance.&nbsp\;&nbsp\;</div>\n
LOCATION:
UID:e.3211.946
SEQUENCE:3
DTSTAMP:20260423T160954Z
URL:https://business.thomasvillechamber.com/events/details/upcoming-business-training-webinars-946
END:VEVENT

END:VCALENDAR
