BEGIN:VCALENDAR
VERSION:2.0
PRODID:-//ChamberMaster//Event Calendar 2.0//EN
METHOD:PUBLISH
X-PUBLISHED-TTL:P3D
REFRESH-INTERVAL:P3D
CALSCALE:GREGORIAN
BEGIN:VEVENT
DTSTART:20210915T140000Z
DTEND:20210915T140000Z
X-MICROSOFT-CDO-ALLDAYEVENT:FALSE
SUMMARY:Upcoming Business Training Webinars
DESCRIPTION:How to Write a Dynamic Business Plan Sponsored by Region Bank - $0.00\n\n \n\nA customized step by step integrated action plan that is essential to the success of your business.\n\nWho should attend: Launch (businesses 0-2 years)\, Growth (businesses 3-5 years)\, Expansion Startups (businesses 5+ years)\n\n\n\nCourse Outline\n\n\n	Sections of a Business Plan\n	Format of a Business Plan\n	Balance Sheet\n	Financial Projections\n	Capital Equipment List\n	Sources of Capital\n\n\n\n\nLearner Outcomes\n\n\n	Use the business plan tool or template that works for you.\n	Have a clear understanding of who your customer is. \n	Start with your company description and proceed step-by-step. \n	It's OK if you don't have all information for each section. You can go back and fill in missing parts later.\n	Start with a strong financial foundation. Projections are key!
X-ALT-DESC;FMTTYPE=text/html:How to Write a Dynamic Business Plan Sponsored by Region Bank - $0.00<br />\n&nbsp\;\n<div id="courseProfileOfficialCourseDescription" style="box-sizing: border-box\; color: rgb(119\, 119\, 119)\; font-family: &quot\;Merriweather Sans&quot\;\, Tahoma\, sans-serif\; font-size: 16px\;">\n<p style="box-sizing: border-box\; margin-top: 0px\; margin-bottom: 1rem\;">A customized step by step integrated action plan that is essential to the success of your business.</p>\n\n<p style="box-sizing: border-box\; margin-top: 0px\; margin-bottom: 1rem\;">Who should attend: Launch (businesses 0-2 years)\, Growth (businesses 3-5 years)\, Expansion Startups (businesses 5+ years)</p>\n</div>\n\n<div id="courseProfileCatalogCourseDescription" style="box-sizing: border-box\; color: rgb(119\, 119\, 119)\; font-family: &quot\;Merriweather Sans&quot\;\, Tahoma\, sans-serif\; font-size: 16px\;">\n<h2 style="box-sizing: border-box\; margin-top: 1rem\; margin-bottom: 1rem\; font-size: 2rem\; color: rgb(186\, 12\, 47)\; font-family: Merriweather\, Georgia\, serif\;">Course Outline</h2>\n\n<ul style="box-sizing: border-box\; margin-top: 0px\; margin-bottom: 1rem\;">\n	<li style="box-sizing: border-box\;">Sections of a Business Plan</li>\n	<li style="box-sizing: border-box\;">Format of a Business Plan</li>\n	<li style="box-sizing: border-box\;">Balance Sheet</li>\n	<li style="box-sizing: border-box\;">Financial Projections</li>\n	<li style="box-sizing: border-box\;">Capital Equipment List</li>\n	<li style="box-sizing: border-box\;">Sources of Capital</li>\n</ul>\n</div>\n\n<div id="courseProfileLearningGoals" style="box-sizing: border-box\; color: rgb(119\, 119\, 119)\; font-family: &quot\;Merriweather Sans&quot\;\, Tahoma\, sans-serif\; font-size: 16px\;">\n<h2 style="box-sizing: border-box\; margin-top: 1rem\; margin-bottom: 1rem\; font-size: 2rem\; color: rgb(186\, 12\, 47)\; font-family: Merriweather\, Georgia\, serif\;">Learner Outcomes</h2>\n\n<ul style="box-sizing: border-box\; margin-top: 0px\; margin-bottom: 1rem\;">\n	<li style="box-sizing: border-box\;">Use the business plan tool or template that works for you.</li>\n	<li style="box-sizing: border-box\;">Have a clear understanding of who your customer is.&nbsp\;</li>\n	<li style="box-sizing: border-box\;">Start with your company description and proceed step-by-step.&nbsp\;</li>\n	<li style="box-sizing: border-box\;">It&rsquo\;s OK if you don&rsquo\;t have all information for each section. You can go back and fill in missing parts later.</li>\n	<li style="box-sizing: border-box\;">Start with a strong financial foundation. Projections are key!</li>\n</ul>\n</div>\n
LOCATION:
UID:e.3211.948
SEQUENCE:3
DTSTAMP:20260423T160859Z
URL:https://business.thomasvillechamber.com/events/details/upcoming-business-training-webinars-948
END:VEVENT

END:VCALENDAR
