BEGIN:VCALENDAR
VERSION:2.0
PRODID:-//ChamberMaster//Event Calendar 2.0//EN
METHOD:PUBLISH
X-PUBLISHED-TTL:P3D
REFRESH-INTERVAL:P3D
CALSCALE:GREGORIAN
BEGIN:VEVENT
DTSTART:20210916T193000Z
DTEND:20210916T193000Z
X-MICROSOFT-CDO-ALLDAYEVENT:FALSE
SUMMARY:Upcoming Business Training Webinars
DESCRIPTION:Winning Investor Funds for Your Business - $39.00\n\n \nBusiness owners at times prefer investor financing over a bank loan for strategic or practical reasons but\, unlike being familiar with the loan application process\, can find raising investment funds mystifying. This webinar helps business owners break down the investor funding process step-by-step to be more confident\, and ultimately be successful\, with this alternative method of raising capital.\n\n\nCourse Outline\n1. The Key Approach to Raising Investor Funds\n\n2. Presentation Materials for Kicking Off A Fund-Raising Campaign\n\n3. The Investment Road Map\n\n4. Finding Investors\n\n5. 10 Presentation Tips\n\n\nLearner Outcomes\n1. Knowledge of steps to earn an investor presentation.\n\n2. Familiarity with different investor personality types.\n\n3. Awareness of investor expectations.\n\n4. Basic ability to customize an investor executive summary and presentation.\n\n5. Knowledge of best practices for delivering a presentation.\n\n\nNotes\n\nA Public Service and Outreach Unit of the University of Georgia. Funded in part through a Cooperative Agreement with the U.S. Small Business Administration. All programs of the UGA SBDC are open to the public on a non-discriminatory basis. Reasonable accommodations for persons with disabilities will be made if requested at least two weeks in advance.
X-ALT-DESC;FMTTYPE=text/html:Winning Investor Funds for Your Business - $39.00<br />\n&nbsp\;\n<div id="courseProfileOfficialCourseDescription" style="box-sizing: border-box\; color: rgb(119\, 119\, 119)\; font-family: &quot\;Merriweather Sans&quot\;\, Tahoma\, sans-serif\; font-size: 16px\;">Business owners at times prefer investor financing over a bank loan for strategic or practical reasons but\, unlike being familiar with the loan application process\, can find raising investment funds mystifying. This webinar helps business owners break down the investor funding process step-by-step to be more confident\, and ultimately be successful\, with this alternative method of raising capital.</div>\n\n<div id="courseProfileCatalogCourseDescription" style="box-sizing: border-box\; color: rgb(119\, 119\, 119)\; font-family: &quot\;Merriweather Sans&quot\;\, Tahoma\, sans-serif\; font-size: 16px\;">\n<h2 style="box-sizing: border-box\; margin-top: 1rem\; margin-bottom: 1rem\; font-size: 2rem\; color: rgb(186\, 12\, 47)\; font-family: Merriweather\, Georgia\, serif\;">Course Outline</h2>\n1. The Key Approach to Raising Investor Funds<br style="box-sizing: border-box\;" />\n2. Presentation Materials for Kicking Off A Fund-Raising Campaign<br style="box-sizing: border-box\;" />\n3. The Investment Road Map<br style="box-sizing: border-box\;" />\n4. Finding Investors<br style="box-sizing: border-box\;" />\n5. 10 Presentation Tips</div>\n\n<div id="courseProfileLearningGoals" style="box-sizing: border-box\; color: rgb(119\, 119\, 119)\; font-family: &quot\;Merriweather Sans&quot\;\, Tahoma\, sans-serif\; font-size: 16px\;">\n<h2 style="box-sizing: border-box\; margin-top: 1rem\; margin-bottom: 1rem\; font-size: 2rem\; color: rgb(186\, 12\, 47)\; font-family: Merriweather\, Georgia\, serif\;">Learner Outcomes</h2>\n1. Knowledge of steps to earn an investor presentation.<br style="box-sizing: border-box\;" />\n2. Familiarity with different investor personality types.<br style="box-sizing: border-box\;" />\n3. Awareness of investor expectations.<br style="box-sizing: border-box\;" />\n4. Basic ability to customize an investor executive summary and presentation.<br style="box-sizing: border-box\;" />\n5. Knowledge of best practices for delivering a presentation.</div>\n\n<div id="courseProfileNotes" style="box-sizing: border-box\; color: rgb(119\, 119\, 119)\; font-family: &quot\;Merriweather Sans&quot\;\, Tahoma\, sans-serif\; font-size: 16px\;">\n<h2 style="box-sizing: border-box\; margin-top: 1rem\; margin-bottom: 1rem\; font-size: 2rem\; color: rgb(186\, 12\, 47)\; font-family: Merriweather\, Georgia\, serif\;">Notes</h2>\n\n<p style="box-sizing: border-box\; margin-top: 0px\; margin-bottom: 1rem\;">A Public Service and Outreach Unit of the University of Georgia. Funded in part through a Cooperative Agreement with the U.S. Small Business Administration. All programs of the UGA SBDC are open to the public on a non-discriminatory basis. Reasonable accommodations for persons with disabilities will be made if requested at least two weeks in advance.</p>\n</div>\n
LOCATION:
UID:e.3211.950
SEQUENCE:3
DTSTAMP:20260423T144344Z
URL:https://business.thomasvillechamber.com/events/details/upcoming-business-training-webinars-950
END:VEVENT

END:VCALENDAR
