BEGIN:VCALENDAR
VERSION:2.0
PRODID:-//ChamberMaster//Event Calendar 2.0//EN
METHOD:PUBLISH
X-PUBLISHED-TTL:P3D
REFRESH-INTERVAL:P3D
CALSCALE:GREGORIAN
BEGIN:VEVENT
DTSTART:20221115T140000Z
DTEND:20221115T150000Z
X-MICROSOFT-CDO-ALLDAYEVENT:FALSE
SUMMARY:Vision Imaging Center Groundbreaking
DESCRIPTION:Come join us in celebrating the groundbreaking ceremony for Vision Imaging Center!    \n\n\n\nVision Imaging Center ("VIC") soon to be located at 2544 East Pinetree Blvd.\, will be the only non-hospital based\, independent imaging center in the area. Our mission and purpose is to provide our community with local access to affordable\, high-quality diagnostic imaging services including MRI\, CT\, and Xray. We will be an accredited facility\, to ensure quality and safety.\n\n\n\nVision Imaging Center\, LLC ("VIC") is owned equally by Dr. Brandi Warren and Dr. Heather Waldrop. The project is being led by Connie Burke\, Director of Operations and Project Management\, who will then serve as the Director of Imaging Operations when the facility opens.
X-ALT-DESC;FMTTYPE=text/html:Come join us in celebrating the groundbreaking ceremony for Vision Imaging Center!&nbsp\;&nbsp\;&nbsp\;&nbsp\;<br />\n<br />\nVision Imaging Center (&ldquo\;VIC&rdquo\;) soon to be located at 2544 East Pinetree Blvd.\, will be the only non-hospital based\, independent imaging center in the area. Our mission and purpose is to provide our community with local access to affordable\, high-quality diagnostic imaging services including MRI\, CT\, and Xray. We will be an accredited facility\, to ensure quality and safety.<br />\n<br />\nVision Imaging Center\, LLC (&ldquo\;VIC&quot\;) is owned equally by Dr. Brandi Warren and Dr. Heather Waldrop. The project is being led by Connie Burke\, Director of Operations and Project Management\, who will then serve as the Director of Imaging Operations when the facility opens.
LOCATION:2544 E. Pinetree Blvd. Thomasville\, GA 31792
UID:e.3211.1655
SEQUENCE:3
DTSTAMP:20260422T120721Z
URL:https://business.thomasvillechamber.com/events/details/vision-imaging-center-groundbreaking-1655
END:VEVENT

END:VCALENDAR
