BEGIN:VCALENDAR
VERSION:2.0
PRODID:-//ChamberMaster//Event Calendar 2.0//EN
METHOD:PUBLISH
X-PUBLISHED-TTL:P3D
REFRESH-INTERVAL:P3D
CALSCALE:GREGORIAN
BEGIN:VEVENT
DTSTART:20220822T143000Z
DTEND:20220822T150000Z
X-MICROSOFT-CDO-ALLDAYEVENT:FALSE
SUMMARY:VyStar Credit Union Grand Opening + Ribbon Cutting Ceremony
DESCRIPTION:Join us on Monday\, August 22nd\, at 10:30 AM for the official grand opening and ribbon cutting ceremony for our new partners at VyStar Credit Union!\n\n\n\n \nOur Vision\n\nVyStar combines the best benefits of credit unions   personalized service\, low fees and great rates and products   with a commitment to improving the places we call home. We are driven to bring this model to more people\, so we make it easy to become a member. It's how we live out our brand promise\, Do Good. Bank Better. \n\nWe are a member-owned and member-managed financial cooperative\, and we put our members' best interest at the heart of everything we do. We don't answer to shareholders or investors. We answer to our members.\n\nWith better rates\, fewer fees and guidance from knowledgeable VyStar representatives\, we help our members reach their financial goals faster. And we look for opportunities to give back in meaningful ways.\n\n \n\nOur History\n\nVyStar was founded in 1952 as the JAX Navy Federal Credit Union at Naval Air Station Jacksonville. Our goal was to serve the financial needs of military service members\, civil service employees and their families. Since then\, we have adapted to changes in the banking industry\, from adopting our first computerized accounting system in 1966 to opening our first ATM in 1982. Throughout\, we kept our commitment to providing excellent service to our members. In 2002\, we became VyStar Credit Union. Today\, we have grown to become one of the largest credit unions in the United States\, serving more than 825\,000 members nationwide.
X-ALT-DESC;FMTTYPE=text/html:<br />\n<span style="font-size:20px\;">Join us on Monday\, August 22nd\, at 10:30 AM for the official grand opening and ribbon cutting ceremony for our new partners at <strong><a href="https://vystarcu.org/">VyStar Credit Union</a>!</strong></span><br />\n<br />\n&nbsp\;\n<h1 style="box-sizing: border-box\; margin: 0px 0px 40px\; font-size: 2.25rem\; padding: 0px\; letter-spacing: -1px\; color: rgb(0\, 44\, 108)\; font-family: Manrope\, sans-serif !important\;">Our Vision</h1>\n\n<p style="box-sizing: border-box\; margin: 0px 0px 20px\; font-size: 16px\; color: rgb(33\, 37\, 41)\; font-family: PublicSans\, sans-serif\;">VyStar combines the best benefits of credit unions &ndash\; personalized service\, low fees and great rates and products &ndash\; with a commitment to improving the places we call home. We are driven to bring this model to more people\, so we make it easy to become a member. It&rsquo\;s how we live out our brand promise\,&nbsp\;<i style="box-sizing: border-box\;">Do Good. Bank Better.&#8480\;</i></p>\n\n<p style="box-sizing: border-box\; margin: 0px 0px 20px\; font-size: 16px\; color: rgb(33\, 37\, 41)\; font-family: PublicSans\, sans-serif\;">We are a member-owned and member-managed financial cooperative\, and we put our members&rsquo\; best interest at the heart of everything we do. We don&rsquo\;t answer to shareholders or investors. We answer to our members.</p>\n\n<p style="box-sizing: border-box\; margin: 0px 0px 20px\; font-size: 16px\; color: rgb(33\, 37\, 41)\; font-family: PublicSans\, sans-serif\;">With better rates\, fewer fees and guidance from knowledgeable VyStar representatives\, we help our members reach their financial goals faster. And we look for opportunities to give back in meaningful ways.<br style="box-sizing: border-box\;" />\n&nbsp\;</p>\n\n<h2 style="box-sizing: border-box\; margin: 0px 0px 15px\; font-size: 1.875rem\; padding: 0px\; color: rgb(0\, 44\, 108)\; font-family: Manrope\, sans-serif !important\;">Our History</h2>\n\n<p style="box-sizing: border-box\; margin: 0px 0px 20px\; font-size: 16px\; color: rgb(33\, 37\, 41)\; font-family: PublicSans\, sans-serif\;">VyStar was founded in 1952 as the JAX Navy Federal Credit Union at Naval Air Station Jacksonville. Our goal was to serve the financial needs of military service members\, civil service employees and their families. Since then\, we have adapted to changes in the banking industry\, from adopting our first computerized accounting system in 1966 to opening our first ATM in 1982. Throughout\, we kept our commitment to providing excellent service to our members. In 2002\, we became VyStar Credit Union. Today\, we have grown to become one of the largest credit unions in the United States\, serving more than 825\,000 members nationwide.</p>\n
LOCATION:VyStar Credit Union - 13621 US-19\, Thomasville\, GA 31792
UID:e.3211.1023
SEQUENCE:3
DTSTAMP:20260422T184053Z
URL:https://business.thomasvillechamber.com/events/details/vystar-credit-union-grand-opening-ribbon-cutting-ceremony-1023
END:VEVENT

END:VCALENDAR
