BEGIN:VCALENDAR
VERSION:2.0
PRODID:-//ChamberMaster//Event Calendar 2.0//EN
METHOD:PUBLISH
X-PUBLISHED-TTL:P3D
REFRESH-INTERVAL:P3D
CALSCALE:GREGORIAN
BEGIN:VEVENT
DTSTART:20191112T163000Z
DTEND:20191112T180000Z
X-MICROSOFT-CDO-ALLDAYEVENT:FALSE
SUMMARY:WILL Power - Women In Local Leadership (November)
DESCRIPTION:WILL Power (previously Women's Forum) is a diverse group dedicated to\, and focused on\, the personal and professional development of women. \n\n\n\nEvery other month\, WILL Power will provide a lunchtime program featuring distinguished leaders from our community and region going beyond their bios to provide attendees with tools\, strategies and takeaways for their own success\, all in an informal\, interactive setting. On the months where there is not a speaker\, WILL Power will provide attendees with professional development activities.\n\n\n\nIf you do not currently have an online account set up for your membership\, please contact the Chamber to set that up prior to your first registration. You may also register by emailing christina@thomasvillechamber.com.
X-ALT-DESC;FMTTYPE=text/html:<p>WILL Power (previously Women's Forum) is a diverse group dedicated to\, and focused on\, the personal and professional development of women.&nbsp\;<br>\n<br>\nEvery other month\, WILL Power will provide a lunchtime program featuring distinguished leaders from our community and region going beyond their bios to provide attendees with tools\, strategies and takeaways for their own success\, all in an informal\, interactive setting. On the months where there is not a speaker\, WILL Power will provide attendees with professional development activities.<br>\n<br>\n<strong>If you do not currently have an online account set up for your membership\, please contact the Chamber to set that up prior to your first registration. You may also register by emailing <a href="http://christina@thomasvillechamber.com">christina@thomasvillechamber.com</a>.&nbsp\;</strong><br>\n&nbsp\;</p>\n
LOCATION:Southern Regional Technical College Building A\, Room 132
UID:e.3211.791
SEQUENCE:3
DTSTAMP:20260425T042159Z
URL:https://business.thomasvillechamber.com/events/details/will-power-women-in-local-leadership-november-791
END:VEVENT

END:VCALENDAR
