BEGIN:VCALENDAR
VERSION:2.0
PRODID:-//ChamberMaster//Event Calendar 2.0//EN
METHOD:PUBLISH
X-PUBLISHED-TTL:P3D
REFRESH-INTERVAL:P3D
CALSCALE:GREGORIAN
BEGIN:VEVENT
DTSTART:20221119T150000Z
DTEND:20221119T200000Z
X-MICROSOFT-CDO-ALLDAYEVENT:FALSE
SUMMARY:Winter Arts and Crafts Fair by Residence at Oak Grove
DESCRIPTION:The Residence at Oak Grove is hosting a Winter Arts and Crafts Fair on Saturday\, November 19th from 10am-3pm.  This will be help outside in the front of the building.  We are still looking for vendors to come and participate as this is open to the public to attend.  Looking for Food\, Arts\, Crafts\, and any other business that would like to participate. There is no fee for the vendors\, we are only asking for a donation to go towards our Christmas Party.\n\n\n\nThey can contact me at 229-715-7507 or email lindsay.clay@theresidenceatoakgrove.com for more information or to register to be a vendor.
X-ALT-DESC;FMTTYPE=text/html:<span style="color:black\;"><span style="font-size:12.0pt\;">The Residence at Oak Grove is hosting a Winter Arts and Crafts Fair on Saturday\, November 19<sup>th</sup>&nbsp\;from 10am-3pm.&nbsp\; This will be help outside in the front of the building.&nbsp\; We are still looking for vendors to come and participate as this is open to the public to attend.&nbsp\; Looking for Food\, Arts\, Crafts\, and any other business that would like to participate. There is no fee for the vendors\, we are only asking for a donation to go towards our Christmas Party.<br />\n<br />\nThey can contact me at 229-715-7507 or email <a href="mailto:lindsay.clay@theresidenceatoakgrove.com">lindsay.clay@theresidenceatoakgrove.com</a> for more information or to register to be a vendor.</span></span>
LOCATION:
UID:e.3211.1647
SEQUENCE:3
DTSTAMP:20260422T121246Z
URL:https://business.thomasvillechamber.com/events/details/winter-arts-and-crafts-fair-by-residence-at-oak-grove-1647
END:VEVENT

END:VCALENDAR
