BEGIN:VCALENDAR
VERSION:2.0
PRODID:-//ChamberMaster//Event Calendar 2.0//EN
METHOD:PUBLISH
X-PUBLISHED-TTL:P3D
REFRESH-INTERVAL:P3D
CALSCALE:GREGORIAN
BEGIN:VEVENT
DTSTART;VALUE=DATE:20220301
DTEND;VALUE=DATE:20220401
TRANSP:TRANSPARENT
X-MICROSOFT-CDO-ALLDAYEVENT:TRUE
SUMMARY:Wiregrass Gallery - March 2022 Featured Artist - Cheryl Sattler
DESCRIPTION:Cheryl Sattler\n\nCheryl is a fused glass artist. Her textured and touchable glass pieces are a celebration of the natural world.\n\nShe works inside the kiln in a way that's different from anyone else\, creating glass that captures not only light but movement   moments in time. Her glass worlds are full of leaves\, and water\, and fields of wildflowers just right for running through barefoot. Everything starts with sheets of colored glass\, or the same glass crushed to varying degrees   but the result is magic.  Her glass begs to be touched (and you should).\n\nShe experiments constantly   and still has never found a rule she didn't want to break. That's why her studio is called Imagine That! Glass   because in the imagination\, there are no rules.\n\n"The cycle of life in the natural world is visible to us in a way we cannot truly contemplate ourselves\, and functions as allegory to our own lives. Daily\, often minute changes unfold - whether we choose to observe or not. Plant life offers us a mirror to the constantly shifting\, ephemeral nature of the self. The fluidity of glass emphasizes this constant metamorphosis while its fragility serves as a reminder of both our own and the planet's frailty."\n\nVisit the Wiregrass Gallery next door to the Thomasviille Visitor's Center and the Municipal Auditorium during First Friday Sip and Stroll to meet Cheryl and enjoy a little wine and refreshments.
X-ALT-DESC;FMTTYPE=text/html:<strong><span style="color:black"><span style="font-family:cavolini"><span style="font-size:12.0pt">Cheryl Sattler</span></span></span></strong><br />\n<span style="color:#1D2228">Cheryl is a fused glass artist. </span>Her textured and touchable glass pieces are a celebration of the natural world.<br />\nShe works inside the kiln in a way that&rsquo\;s different from anyone else\, creating glass that captures not only light but movement &ndash\; moments in time. Her glass worlds are full of leaves\, and water\, and fields of wildflowers just right for running through barefoot. Everything starts with sheets of colored glass\, or the same glass crushed to varying degrees &ndash\; but the result is magic. &nbsp\;Her glass begs to be touched (and you should).<br />\nShe experiments constantly &ndash\; and still has never found a rule she didn&rsquo\;t want to break. That&rsquo\;s why her studio is called Imagine That! Glass &ndash\; because in the imagination\, there are no rules.<br />\n<span style="color:#1D2228">&ldquo\;The cycle of life in the natural world is visible to us in a way we cannot truly contemplate ourselves\, and functions as allegory to our own lives. Daily\, often minute changes unfold - whether we choose to observe or not. Plant life offers us a mirror to the constantly shifting\, ephemeral nature of the self. The fluidity of glass emphasizes this constant metamorphosis while its fragility serves as a reminder of both our own and the planet&#39\;s frailty.&rdquo\;</span><br />\n<span style="color:#1D2228">Visit the Wiregrass Gallery next door to the Thomasviille Visitor&rsquo\;s Center and the Municipal Auditorium during First Friday Sip and Stroll to meet Cheryl and enjoy a little wine and refreshments.</span><br />\n&nbsp\;
LOCATION:Wiregrass Art Gallery Art Gallery Address: 130 E Jackson St\, Thomasville\, GA 31792 Phone: (229) 233-2043
UID:e.3211.1001
SEQUENCE:3
DTSTAMP:20260423T034317Z
URL:https://business.thomasvillechamber.com/events/details/wiregrass-gallery-march-2022-featured-artist-cheryl-sattler-1001
END:VEVENT

END:VCALENDAR
