BEGIN:VCALENDAR
VERSION:2.0
PRODID:-//ChamberMaster//Event Calendar 2.0//EN
METHOD:PUBLISH
X-PUBLISHED-TTL:P3D
REFRESH-INTERVAL:P3D
CALSCALE:GREGORIAN
BEGIN:VEVENT
DTSTART:20180930T154500Z
DTEND:20180930T163000Z
X-MICROSOFT-CDO-ALLDAYEVENT:FALSE
SUMMARY:Yoga & Bellinis
DESCRIPTION:45-minute yoga session led by Carter - FDV's 200-HR YA certified instructor. Plus hellraiser bellini or bro's mimosa in the tranquil FDV tasting room.
X-ALT-DESC;FMTTYPE=text/html:45-minute yoga session led by Carter - FDV&#39\;s 200-HR YA certified instructor. Plus hellraiser bellini or bro&#39\;s mimosa in the tranquil FDV tasting room.
LOCATION:106 N Broad Street Thomasville\, GA 31792
UID:e.3211.342
SEQUENCE:3
DTSTAMP:20260426T033120Z
URL:https://business.thomasvillechamber.com/events/details/yoga-bellinis-342
END:VEVENT

END:VCALENDAR
